BEGIN:VCALENDAR
PRODID:NingEventWidget-v1
VERSION:2.0
METHOD:PUBLISH
BEGIN:VTIMEZONE
TZID:America/Los_Angeles
X-LIC-LOCATION:America/Los_Angeles
BEGIN:DAYLIGHT
TZOFFSETFROM:-0800
TZOFFSETTO:-0700
TZNAME:PDT
DTSTART:19700308T020000
RRULE:FREQ=YEARLY;BYMONTH=3;BYDAY=2SU
END:DAYLIGHT
BEGIN:STANDARD
TZOFFSETFROM:-0700
TZOFFSETTO:-0800
TZNAME:PST
DTSTART:19701101T020000
RRULE:FREQ=YEARLY;BYMONTH=11;BYDAY=1SU
END:STANDARD
END:VTIMEZONE
BEGIN:VEVENT
UID:1464587:Event:42322
DTSTAMP:20260420T205238Z
SUMMARY:CakeMIX
DESCRIPTION:CakeMIX is back for November. In classic fashion, resident
  Carey Kopp will be spinning hip hop, soul and R&B starting at 10pm an
 d going straight till 2am. Don't break the bank to party, there's neve
 r a cover at WISH and drink specials are provided all night long. So s
 top in for a relaxed atmosphere, beautiful peoples and great music.\n\
 n\nWISH. 1539 Folsom st. SF. 94103\n\nFor more information visit https
 ://trueskool.com/events/cakemix-3
DTSTART;TZID=America/Los_Angeles:20091112T220000
DTEND;TZID=America/Los_Angeles:20091113T020000
CATEGORIES:hip, hop
LOCATION:WISH, San Francisco
WEBSITE:http://www.wishsf.com
URL:http://www.wishsf.com
CONTACT:
ORGANIZER;CN="Carey Kopp":https://trueskool.com/profile/k85
ATTACH;FMTTYPE="image/jpeg":http://storage.ning.com/topology/rest/1.0/
 file/get/2247859399?profile=original
ATTENDEE;ROLE=REQ-PARTICIPANT;PARTSTAT=ACCEPTED;RSVP=TRUE;CN="Carey Ko
 pp":https://trueskool.com/profile/k85
END:VEVENT
END:VCALENDAR
