BEGIN:VCALENDAR
PRODID:NingEventWidget-v1
VERSION:2.0
METHOD:PUBLISH
BEGIN:VTIMEZONE
TZID:America/Los_Angeles
X-LIC-LOCATION:America/Los_Angeles
BEGIN:DAYLIGHT
TZOFFSETFROM:-0800
TZOFFSETTO:-0700
TZNAME:PDT
DTSTART:19700308T020000
RRULE:FREQ=YEARLY;BYMONTH=3;BYDAY=2SU
END:DAYLIGHT
BEGIN:STANDARD
TZOFFSETFROM:-0700
TZOFFSETTO:-0800
TZNAME:PST
DTSTART:19701101T020000
RRULE:FREQ=YEARLY;BYMONTH=11;BYDAY=1SU
END:STANDARD
END:VTIMEZONE
BEGIN:VEVENT
UID:1464587:Event:36325
DTSTAMP:20260421T020140Z
SUMMARY:CakeMIX
DESCRIPTION:Every 2nd Thursday of the Month we celebrate funk, soul an
 d hip hop culture at WISH. CakeMIX has been dedicated to the preservat
 ion of this music through resident DJ, Carey Kopp, spinning records fr
 om artists new and old. Throughout the course of the night we cover Mo
 town, 70's Funk, 80's dance and the Golden era of Hip Hop.. No generat
 ion will be left out. Bring a friend, we love to see new faces. Music 
 starts at 10pm and we go straight till 2am. Great ambiance, beautiful 
 people and no cover, stop in Thursday, August 13th.\n\nhip-hop.\n-noun
  1. the popular subculture of big-city teenagers, which includes rap m
 usic, break dancing, and graffiti art. -adjective 2. of, pertaining to
 , or characteristic of this subculture: the hip-hop generation.\n\nCak
 eMIX | Thursday, August 13th | 10pm | 21+ | Never a Cover\n\n\n\n\n\nW
 ISH\n1539 Folsom St.\nSan Francisco, CA\n94103\n\nFor more information
  visit https://trueskool.com/events/cakemix-2
DTSTART;TZID=America/Los_Angeles:20090813T220000
DTEND;TZID=America/Los_Angeles:20090814T020000
CATEGORIES:hip, hop, funk, and, soul
LOCATION:WISH, San Francisco
WEBSITE:http://www.facebook.com/careykopp
URL:http://www.facebook.com/careykopp
CONTACT:
ORGANIZER;CN="Carey Kopp":https://trueskool.com/profile/k85
ATTACH;FMTTYPE="image/jpeg":http://storage.ning.com/topology/rest/1.0/
 file/get/2247859399?profile=original
ATTENDEE;ROLE=REQ-PARTICIPANT;PARTSTAT=ACCEPTED;RSVP=TRUE;CN="Carey Ko
 pp":https://trueskool.com/profile/k85
END:VEVENT
END:VCALENDAR
