BEGIN:VCALENDAR
PRODID:NingEventWidget-v1
VERSION:2.0
METHOD:PUBLISH
BEGIN:VTIMEZONE
TZID:America/Los_Angeles
X-LIC-LOCATION:America/Los_Angeles
BEGIN:DAYLIGHT
TZOFFSETFROM:-0800
TZOFFSETTO:-0700
TZNAME:PDT
DTSTART:19700308T020000
RRULE:FREQ=YEARLY;BYMONTH=3;BYDAY=2SU
END:DAYLIGHT
BEGIN:STANDARD
TZOFFSETFROM:-0700
TZOFFSETTO:-0800
TZNAME:PST
DTSTART:19701101T020000
RRULE:FREQ=YEARLY;BYMONTH=11;BYDAY=1SU
END:STANDARD
END:VTIMEZONE
BEGIN:VEVENT
UID:1464587:Event:31532
DTSTAMP:20260420T180810Z
SUMMARY:Bun B, Mike Jones
DESCRIPTION:Stephen Jackson, II Trill Enterprises, Ice Age Ent., & Dou
 ble Dose Ent. present\n\nBun B\n\nMike Jones\n\nMEZZANINE, 444 Jessie 
 Street @ Mint\nSan Francisco, California 94103\nFirst 100 GA tickets a
 t $30\nFirst 75 VIP at $60\nTickets @ ticketweb.com\nWIN TICKETS\n\nFo
 r more information visit https://trueskool.com/events/bun-b-mike-jones
DTSTART;TZID=America/Los_Angeles:20090523T220000
DTEND;TZID=America/Los_Angeles:20090524T020000
CATEGORIES:hip, hop
LOCATION:MEZZANINE, San Francisco, CA
WEBSITE:http://www.ticketweb.com/snl/VenueListings.action?venueId=mezz
 anine
URL:http://www.ticketweb.com/snl/VenueListings.action?venueId=mezzanin
 e
CONTACT:
ORGANIZER:Stephen Jackson, II Trill Enterprises, Ice Age Ent., & Doubl
 e Dose Ent.
ATTACH;FMTTYPE="image/jpeg":http://storage.ning.com/topology/rest/1.0/
 file/get/2247857196?profile=original
ATTENDEE;ROLE=REQ-PARTICIPANT;PARTSTAT=ACCEPTED;RSVP=TRUE;CN="Ren the 
 Vinyl Archaeologist":https://trueskool.com/profile/xh51jvilojur
END:VEVENT
END:VCALENDAR
