BEGIN:VCALENDAR
PRODID:NingEventWidget-v1
VERSION:2.0
METHOD:PUBLISH
BEGIN:VTIMEZONE
TZID:America/Los_Angeles
X-LIC-LOCATION:America/Los_Angeles
BEGIN:DAYLIGHT
TZOFFSETFROM:-0800
TZOFFSETTO:-0700
TZNAME:PDT
DTSTART:19700308T020000
RRULE:FREQ=YEARLY;BYMONTH=3;BYDAY=2SU
END:DAYLIGHT
BEGIN:STANDARD
TZOFFSETFROM:-0700
TZOFFSETTO:-0800
TZNAME:PST
DTSTART:19701101T020000
RRULE:FREQ=YEARLY;BYMONTH=11;BYDAY=1SU
END:STANDARD
END:VTIMEZONE
BEGIN:VEVENT
UID:1464587:Event:59977
DTSTAMP:20260421T003047Z
SUMMARY:Budweiser Superfest: Anthony Hamilton, Kem, Jaheim, Raheem DeV
 aughn
DESCRIPTION:Budweiser Superfest:\n\nAnthony Hamilton, Kem, Jaheim, Rah
 eem DeVaughn\n\nSleep Train Pavilion At Concord\nConcord, CA\nFri, Aug
  13, 2010 07:00 PM\n\nFor more information visit https://trueskool.com
 /events/budweiser-superfest-anthony
DTSTART;TZID=America/Los_Angeles:20100813T190000
DTEND;TZID=America/Los_Angeles:20100813T230000
CATEGORIES:"r&b"
LOCATION:Sleep Train Pavilion At Concord Concord, CA
WEBSITE:http://www.livenation.com/event/1C0044CEA6B44099?crosssite=TM_
 US:3140:229503
URL:http://www.livenation.com/event/1C0044CEA6B44099?crosssite=TM_US:3
 140:229503
CONTACT:
ORGANIZER;CN="Editor's Pick":https://trueskool.com/profile/RentheVinyl
 Archaeologist
ATTACH;FMTTYPE="image/jpeg":http://storage.ning.com/topology/rest/1.0/
 file/get/2247880968?profile=original
ATTENDEE;ROLE=REQ-PARTICIPANT;PARTSTAT=ACCEPTED;RSVP=TRUE;CN="Editor's
  Pick":https://trueskool.com/profile/RentheVinylArchaeologist
END:VEVENT
END:VCALENDAR
