BEGIN:VCALENDAR
PRODID:NingEventWidget-v1
VERSION:2.0
METHOD:PUBLISH
BEGIN:VTIMEZONE
TZID:America/Los_Angeles
X-LIC-LOCATION:America/Los_Angeles
BEGIN:DAYLIGHT
TZOFFSETFROM:-0800
TZOFFSETTO:-0700
TZNAME:PDT
DTSTART:19700308T020000
RRULE:FREQ=YEARLY;BYMONTH=3;BYDAY=2SU
END:DAYLIGHT
BEGIN:STANDARD
TZOFFSETFROM:-0700
TZOFFSETTO:-0800
TZNAME:PST
DTSTART:19701101T020000
RRULE:FREQ=YEARLY;BYMONTH=11;BYDAY=1SU
END:STANDARD
END:VTIMEZONE
BEGIN:VEVENT
UID:1464587:Event:284446
DTSTAMP:20260421T164438Z
SUMMARY:BUA: Art for the People
DESCRIPTION:Saturday December 14th meet legendary artist--BUA.!!! He w
 ill be signing his newest print \"The Boombox\". And as a Thank You to
  all of his fans, he'll be giving the lowest prices of the year on nev
 er before seen originals, unique giclee's, canvases, etc. Come by and 
 bring your friends and family!\n\nFor more information visit https://t
 rueskool.com/events/bua-art-for-the-people
DTSTART;TZID=America/Los_Angeles:20131214T180000
DTEND;TZID=America/Los_Angeles:20131214T220000
CATEGORIES:haight, street, san, francisco, bay, area, urban
LOCATION:DSF - San Francisco
WEBSITE:http://FREE for ALL
URL:http://FREE for ALL
CONTACT:415.252.8601
ORGANIZER;CN="Romeo Corsi":https://trueskool.com/profile/RomeoCorsi
ATTACH;FMTTYPE="image/jpeg":http://storage.ning.com/topology/rest/1.0/
 file/get/2247955194?profile=original
ATTENDEE;ROLE=REQ-PARTICIPANT;PARTSTAT=ACCEPTED;RSVP=TRUE;CN="Romeo Co
 rsi":https://trueskool.com/profile/RomeoCorsi
END:VEVENT
END:VCALENDAR
