BEGIN:VCALENDAR
PRODID:NingEventWidget-v1
VERSION:2.0
METHOD:PUBLISH
BEGIN:VTIMEZONE
TZID:America/Los_Angeles
X-LIC-LOCATION:America/Los_Angeles
BEGIN:DAYLIGHT
TZOFFSETFROM:-0800
TZOFFSETTO:-0700
TZNAME:PDT
DTSTART:19700308T020000
RRULE:FREQ=YEARLY;BYMONTH=3;BYDAY=2SU
END:DAYLIGHT
BEGIN:STANDARD
TZOFFSETFROM:-0700
TZOFFSETTO:-0800
TZNAME:PST
DTSTART:19701101T020000
RRULE:FREQ=YEARLY;BYMONTH=11;BYDAY=1SU
END:STANDARD
END:VTIMEZONE
BEGIN:VEVENT
UID:1464587:Event:65900
DTSTAMP:20260421T083000Z
SUMMARY:Bryan Ford & Goulet, Elev8tor w vocalist Darcy, and J-Boogie (
 Om) & DJ Deevice
DESCRIPTION:Bryan Ford & Goulet, along w/ Elev8tor featuring vocalist 
 Darcy (recently featured on Burton L's Feel the Love) will be performi
 ng live at Red Devil Lounge to promote the release of their label's re
 cent compilation Revolutionary Music Presents Organica Lounge. Special
  guests include J Boogie (Om Records) and DJ Deevice (Best DJ/Best Rad
 io show, SFBG Best of the Bay 2010). Come out and get down to some ser
 iously dirty beats and funked out soul-sonic treats! Buy pre-sale tick
 ets, listen to the album and check the artists' info below...\n\nPre-s
 ale - http://www.ticketweb.com/t3/sale/SaleEventDetail?dispatch=loadSe
 lectionData&eventId=2956505&pl=reddevil\n$5 before 9pm w \"Yes\" Faceb
 ook RSVP, $10 after\n\nPreview the album at http://revolutionarymusic.
 com/organicalounge\n\nBryan Ford & Goulet - http://revolutionarymusic.
 com/artists/bandsproduction-teams/bryan-ford-goulet/\n\nElev8tor - htt
 p://revolutionarymusic.com/artists/bandsproduction-teams/elev8tor/\n\n
 J Boogie - http://www.jboogie.com/\n\nDJ Deevice - http://soundcloud.c
 om/djdeevice\n\nFor more information visit https://trueskool.com/event
 s/bryan-ford-goulet-elev8tor-w
DTSTART;TZID=America/Los_Angeles:20100916T200000
DTEND;TZID=America/Los_Angeles:20100917T020000
CATEGORIES:san, francisco, ca
LOCATION:Red Devil Lounge
WEBSITE:
URL:
CONTACT:
ORGANIZER;CN="Keyatta Shade":https://trueskool.com/profile/KeyattaShad
 e
ATTACH;FMTTYPE="image/jpeg":http://storage.ning.com/topology/rest/1.0/
 file/get/2247883059?profile=original
ATTENDEE;ROLE=REQ-PARTICIPANT;PARTSTAT=ACCEPTED;RSVP=TRUE;CN="Keyatta 
 Shade":https://trueskool.com/profile/KeyattaShade
END:VEVENT
END:VCALENDAR
