BEGIN:VCALENDAR
PRODID:NingEventWidget-v1
VERSION:2.0
METHOD:PUBLISH
BEGIN:VTIMEZONE
TZID:America/Los_Angeles
X-LIC-LOCATION:America/Los_Angeles
BEGIN:DAYLIGHT
TZOFFSETFROM:-0800
TZOFFSETTO:-0700
TZNAME:PDT
DTSTART:19700308T020000
RRULE:FREQ=YEARLY;BYMONTH=3;BYDAY=2SU
END:DAYLIGHT
BEGIN:STANDARD
TZOFFSETFROM:-0700
TZOFFSETTO:-0800
TZNAME:PST
DTSTART:19701101T020000
RRULE:FREQ=YEARLY;BYMONTH=11;BYDAY=1SU
END:STANDARD
END:VTIMEZONE
BEGIN:VEVENT
UID:1464587:Event:673003
DTSTAMP:20260421T160144Z
SUMMARY:Brothers with Beats II
DESCRIPTION:\r\nTime: February 18, 2018 from 6pm to 7pmLocation: Yo
 shi'sCity/State: OaklandInfo/Tickets/Map: https://www.yoshis.com/eve
 nt/…\n\nFor more information visit https://trueskool.com/events/brot
 hers-with-beats-ii
DTSTART;TZID=America/Los_Angeles:20180218T180000
DTEND;TZID=America/Los_Angeles:20180218T190000
CATEGORIES:"yoshi's", oakland
LOCATION:Yoshi's
WEBSITE:https://www.yoshis.com/event/1599755-brothers-beats-ii-oakland
 /
URL:https://www.yoshis.com/event/1599755-brothers-beats-ii-oakland/
CONTACT:
ORGANIZER:JAHI
ATTACH;FMTTYPE="image/jpeg":http://storage.ning.com/topology/rest/1.0/
 file/get/2248005211?profile=original
ATTENDEE;ROLE=REQ-PARTICIPANT;PARTSTAT=ACCEPTED;RSVP=TRUE;CN=Iam:https
 ://trueskool.com/profile/Iam
END:VEVENT
END:VCALENDAR
