BEGIN:VCALENDAR
PRODID:NingEventWidget-v1
VERSION:2.0
METHOD:PUBLISH
BEGIN:VTIMEZONE
TZID:America/Los_Angeles
X-LIC-LOCATION:America/Los_Angeles
BEGIN:DAYLIGHT
TZOFFSETFROM:-0800
TZOFFSETTO:-0700
TZNAME:PDT
DTSTART:19700308T020000
RRULE:FREQ=YEARLY;BYMONTH=3;BYDAY=2SU
END:DAYLIGHT
BEGIN:STANDARD
TZOFFSETFROM:-0700
TZOFFSETTO:-0800
TZNAME:PST
DTSTART:19701101T020000
RRULE:FREQ=YEARLY;BYMONTH=11;BYDAY=1SU
END:STANDARD
END:VTIMEZONE
BEGIN:VEVENT
UID:1464587:Event:680275
DTSTAMP:20260421T111922Z
SUMMARY:Brother Ali
DESCRIPTION:Shadows On The Sun 15th Anniversary Tour:\r\nBrother Ali\r
 \nBusdriver\r\nFriday Nov 30, 2018 Doors: 7:30 PM  Show: 8:30 PM\r\nAl
 l Ages\r\n$24 in advance - $75 VIP Meet And Greet\r\n\r\nCornerstone B
 erkeley 2367 Shattuck Ave. Berkeley, CA 94704 (510) 214-8600\n\nFor mo
 re information visit https://trueskool.com/events/brother-ali-1
DTSTART;TZID=America/Los_Angeles:20181130T203000
DTEND;TZID=America/Los_Angeles:20181130T233000
CATEGORIES:"bay area", oakland, "san francisco", "san jose", berkeley
LOCATION:Cornerstone, Berkeley
WEBSITE:https://www.ticketfly.com/purchase/event/1766337?_ga=2.9864623
 4.573601003.1542285983-1562202176.1542285982
URL:https://www.ticketfly.com/purchase/event/1766337?_ga=2.98646234.57
 3601003.1542285983-1562202176.1542285982
CONTACT:
ORGANIZER;CN="Editor's Pick":https://trueskool.com/profile/RentheVinyl
 Archaeologist
ATTACH;FMTTYPE="image/jpeg":http://storage.ning.com/topology/rest/1.0/
 file/get/2248011547?profile=original
ATTENDEE;ROLE=REQ-PARTICIPANT;PARTSTAT=ACCEPTED;RSVP=TRUE;CN="Editor's
  Pick":https://trueskool.com/profile/RentheVinylArchaeologist
END:VEVENT
END:VCALENDAR
