BEGIN:VCALENDAR
PRODID:NingEventWidget-v1
VERSION:2.0
METHOD:PUBLISH
BEGIN:VTIMEZONE
TZID:America/Los_Angeles
X-LIC-LOCATION:America/Los_Angeles
BEGIN:DAYLIGHT
TZOFFSETFROM:-0800
TZOFFSETTO:-0700
TZNAME:PDT
DTSTART:19700308T020000
RRULE:FREQ=YEARLY;BYMONTH=3;BYDAY=2SU
END:DAYLIGHT
BEGIN:STANDARD
TZOFFSETFROM:-0700
TZOFFSETTO:-0800
TZNAME:PST
DTSTART:19701101T020000
RRULE:FREQ=YEARLY;BYMONTH=11;BYDAY=1SU
END:STANDARD
END:VTIMEZONE
BEGIN:VEVENT
UID:1464587:Event:31243
DTSTAMP:20260421T133206Z
SUMMARY:Brooklyn Circus presents DJ Spinna
DESCRIPTION:\n\nFor more information visit https://trueskool.com/event
 s/brooklyn-circus-presents-dj
DTSTART;TZID=America/Los_Angeles:20090507T210000
DTEND;TZID=America/Los_Angeles:20090508T020000
CATEGORIES:funk, soul, afro, beat, hip, hop
LOCATION:Yoshi's, San Francisco, CA
WEBSITE:http://www.thebkcircus.com/blog
URL:http://www.thebkcircus.com/blog
CONTACT:
ORGANIZER:BK Circus
ATTACH;FMTTYPE="image/jpeg":http://storage.ning.com/topology/rest/1.0/
 file/get/2247855976?profile=original
ATTENDEE;ROLE=REQ-PARTICIPANT;PARTSTAT=ACCEPTED;RSVP=TRUE;CN="Editor's
  Pick":https://trueskool.com/profile/RentheVinylArchaeologist
END:VEVENT
END:VCALENDAR
