BEGIN:VCALENDAR
PRODID:NingEventWidget-v1
VERSION:2.0
METHOD:PUBLISH
BEGIN:VTIMEZONE
TZID:America/Los_Angeles
X-LIC-LOCATION:America/Los_Angeles
BEGIN:DAYLIGHT
TZOFFSETFROM:-0800
TZOFFSETTO:-0700
TZNAME:PDT
DTSTART:19700308T020000
RRULE:FREQ=YEARLY;BYMONTH=3;BYDAY=2SU
END:DAYLIGHT
BEGIN:STANDARD
TZOFFSETFROM:-0700
TZOFFSETTO:-0800
TZNAME:PST
DTSTART:19701101T020000
RRULE:FREQ=YEARLY;BYMONTH=11;BYDAY=1SU
END:STANDARD
END:VTIMEZONE
BEGIN:VEVENT
UID:1464587:Event:679899
DTSTAMP:20260421T064519Z
SUMMARY:Brockhampton
DESCRIPTION: Thu, Nov 8, 2018 Brockhampton - I'll Be There Tour\r\nBil
 l Graham Civic Auditorium, San Francisco, CA 09:00 PM >> BUY TICKETS\r
 \n\n\nFor more information visit https://trueskool.com/events/brockham
 pton
DTSTART;TZID=America/Los_Angeles:20181108T210000
DTEND;TZID=America/Los_Angeles:20181108T230000
CATEGORIES:"bay area", "san francisco"
LOCATION:Bill Graham Civic Auditorium, San Francisco
WEBSITE:https://www.ticketmaster.com/brockhampton-san-francisco-califo
 rnia-11-08-2018/event/1C005519AC039318?camefrom=CFC_ANOTHERPLANET_web&
 amp;amp;brand=anotherplanet
URL:https://www.ticketmaster.com/brockhampton-san-francisco-california
 -11-08-2018/event/1C005519AC039318?camefrom=CFC_ANOTHERPLANET_web&amp;
 amp;brand=anotherplanet
CONTACT:
ORGANIZER:Another Planet Ent
ATTACH;FMTTYPE="image/jpeg":http://storage.ning.com/topology/rest/1.0/
 file/get/2248011054?profile=original
ATTENDEE;ROLE=REQ-PARTICIPANT;PARTSTAT=ACCEPTED;RSVP=TRUE;CN="Editor's
  Pick":https://trueskool.com/profile/RentheVinylArchaeologist
END:VEVENT
END:VCALENDAR
