BEGIN:VCALENDAR
PRODID:NingEventWidget-v1
VERSION:2.0
METHOD:PUBLISH
BEGIN:VTIMEZONE
TZID:America/Los_Angeles
X-LIC-LOCATION:America/Los_Angeles
BEGIN:DAYLIGHT
TZOFFSETFROM:-0800
TZOFFSETTO:-0700
TZNAME:PDT
DTSTART:19700308T020000
RRULE:FREQ=YEARLY;BYMONTH=3;BYDAY=2SU
END:DAYLIGHT
BEGIN:STANDARD
TZOFFSETFROM:-0700
TZOFFSETTO:-0800
TZNAME:PST
DTSTART:19701101T020000
RRULE:FREQ=YEARLY;BYMONTH=11;BYDAY=1SU
END:STANDARD
END:VTIMEZONE
BEGIN:VEVENT
UID:1464587:Event:64121
DTSTAMP:20260420T145645Z
SUMMARY:BRIDGE THE GAP! w/ Ren the Vinyl Archaeologist
DESCRIPTION:\nWednesday August 25\nBRIDGE THE GAP!\nEvery Wednesday ni
 ght at The Triple Crown: musicians, djs and emcees bridging the gap th
 rough music, art and drank.\n\n4th Wednesdays:\nREN THE VINYL ARCHAEOL
 OGIST (True Skool)\n\nart curated by The Lower Haters Gallery. culinar
 y treats by Travelling Takoyaki.\n\nTriple Crown, 1760 Market St., SF\
 n21+ / no cover!\n\nFor more information visit https://trueskool.com/e
 vents/bridge-the-gap-w-ren-the-vinyl
DTSTART;TZID=America/Los_Angeles:20100825T220000
DTEND;TZID=America/Los_Angeles:20100826T020000
CATEGORIES:bay, area, san, francisco, ca
LOCATION:Triple Crown, San Francisco, CA
WEBSITE:http://www.triplecrownsf.com/
URL:http://www.triplecrownsf.com/
CONTACT:
ORGANIZER:Triple Crown
ATTACH;FMTTYPE="image/jpeg":http://storage.ning.com/topology/rest/1.0/
 file/get/2247883266?profile=original
ATTENDEE;ROLE=REQ-PARTICIPANT;PARTSTAT=ACCEPTED;RSVP=TRUE;CN="Ren the 
 Vinyl Archaeologist":https://trueskool.com/profile/xh51jvilojur
END:VEVENT
END:VCALENDAR
