BEGIN:VCALENDAR
PRODID:NingEventWidget-v1
VERSION:2.0
METHOD:PUBLISH
BEGIN:VTIMEZONE
TZID:America/Los_Angeles
X-LIC-LOCATION:America/Los_Angeles
BEGIN:DAYLIGHT
TZOFFSETFROM:-0800
TZOFFSETTO:-0700
TZNAME:PDT
DTSTART:19700308T020000
RRULE:FREQ=YEARLY;BYMONTH=3;BYDAY=2SU
END:DAYLIGHT
BEGIN:STANDARD
TZOFFSETFROM:-0700
TZOFFSETTO:-0800
TZNAME:PST
DTSTART:19701101T020000
RRULE:FREQ=YEARLY;BYMONTH=11;BYDAY=1SU
END:STANDARD
END:VTIMEZONE
BEGIN:VEVENT
UID:1464587:Event:63464
DTSTAMP:20260420T230206Z
SUMMARY:Brian McKnight
DESCRIPTION:Aug 16-Aug 19, 2010\nAn Evening With Brian McKnight\n\nMon
 day\n8PM show: $35\n\nTuesday\n8PM show: $35\n\nWednesday\n8PM show: $
 45\n10PM show: $35\n\nThursday\n8PM show: $45\n10PM show: $35\n\nYoshi
 's San Francisco\n1330 Fillmore Street\nSan Francisco, CA 94115\nPhone
 : 415.655.5600\n» BUY TICKETS\n\n\nFor more information visit https:/
 /trueskool.com/events/brian-mcknight
DTSTART;TZID=America/Los_Angeles:20100816T200000
DTEND;TZID=America/Los_Angeles:20100819T233000
CATEGORIES:bay, area, san, francisco, ca
LOCATION:Yoshi's, San Francisco, CA
WEBSITE:http://sfyoshis2.inticketing.com/evlist.php?events=search&amp;
 searchstr=mcknight
URL:http://sfyoshis2.inticketing.com/evlist.php?events=search&amp;sear
 chstr=mcknight
CONTACT:
ORGANIZER:Yoshi's
ATTACH;FMTTYPE="image/jpeg":http://storage.ning.com/topology/rest/1.0/
 file/get/2247873694?profile=original
ATTENDEE;ROLE=REQ-PARTICIPANT;PARTSTAT=ACCEPTED;RSVP=TRUE;CN="Ren the 
 Vinyl Archaeologist":https://trueskool.com/profile/xh51jvilojur
END:VEVENT
END:VCALENDAR
