BEGIN:VCALENDAR
PRODID:NingEventWidget-v1
VERSION:2.0
METHOD:PUBLISH
BEGIN:VTIMEZONE
TZID:America/Los_Angeles
X-LIC-LOCATION:America/Los_Angeles
BEGIN:DAYLIGHT
TZOFFSETFROM:-0800
TZOFFSETTO:-0700
TZNAME:PDT
DTSTART:19700308T020000
RRULE:FREQ=YEARLY;BYMONTH=3;BYDAY=2SU
END:DAYLIGHT
BEGIN:STANDARD
TZOFFSETFROM:-0700
TZOFFSETTO:-0800
TZNAME:PST
DTSTART:19701101T020000
RRULE:FREQ=YEARLY;BYMONTH=11;BYDAY=1SU
END:STANDARD
END:VTIMEZONE
BEGIN:VEVENT
UID:1464587:Event:53454
DTSTAMP:20260420T193408Z
SUMMARY:Breakestra
DESCRIPTION:Friday May 14th\nBreakestra\nplus Fort Knox Five\n\nMezzan
 ine\n444 Jessie Street, San Francisco, CA\n21+\ndoors at 9\ntickets $1
 2 adv/$15 adv/$20 door\nBuy Tickets:\n\n\n \n\n\n\nFor more informatio
 n visit https://trueskool.com/events/breakestra-1
DTSTART;TZID=America/Los_Angeles:20100408T180000
DTEND;TZID=America/Los_Angeles:20100408T190000
CATEGORIES:hip, hop, funk
LOCATION:Mezzanine, San Francisco, CA
WEBSITE:http://www.sunsetpromotions.net/events/82447/The-Breakestra--F
 ort-Knox-Five-LIVE
URL:http://www.sunsetpromotions.net/events/82447/The-Breakestra--Fort-
 Knox-Five-LIVE
CONTACT:
ORGANIZER;CN="Editor's Pick":https://trueskool.com/profile/RentheVinyl
 Archaeologist
ATTACH;FMTTYPE="image/jpeg":http://storage.ning.com/topology/rest/1.0/
 file/get/2247876645?profile=original
ATTENDEE;ROLE=REQ-PARTICIPANT;PARTSTAT=ACCEPTED;RSVP=TRUE;CN="Editor's
  Pick":https://trueskool.com/profile/RentheVinylArchaeologist
END:VEVENT
END:VCALENDAR
