BEGIN:VCALENDAR
PRODID:NingEventWidget-v1
VERSION:2.0
METHOD:PUBLISH
BEGIN:VTIMEZONE
TZID:America/Los_Angeles
X-LIC-LOCATION:America/Los_Angeles
BEGIN:DAYLIGHT
TZOFFSETFROM:-0800
TZOFFSETTO:-0700
TZNAME:PDT
DTSTART:19700308T020000
RRULE:FREQ=YEARLY;BYMONTH=3;BYDAY=2SU
END:DAYLIGHT
BEGIN:STANDARD
TZOFFSETFROM:-0700
TZOFFSETTO:-0800
TZNAME:PST
DTSTART:19701101T020000
RRULE:FREQ=YEARLY;BYMONTH=11;BYDAY=1SU
END:STANDARD
END:VTIMEZONE
BEGIN:VEVENT
UID:1464587:Event:68642
DTSTAMP:20260420T144712Z
SUMMARY:Brand Nubian
DESCRIPTION:Originally made up of Grand Puba, Sadat X, Lord Jamar, and
  DJ Alamo, Brand Nubian followed in the footsteps of early De La Soul,
  with funky beats, upbeat grooves, and rhymes of positivity. On their 
 classic debut album All For One, their easy flow and laid-back rhythms
  served as the platform for the declaration of their Islamic faith and
  the teachings of The 5% Nation. Grand Puba left the group to go solo 
 following All For One, and the remaining members continue to spread th
 eir message.\n\nFor more information visit https://trueskool.com/event
 s/brand-nubian-2
DTSTART;TZID=America/Los_Angeles:20101104T220000
DTEND;TZID=America/Los_Angeles:20101104T233000
CATEGORIES:oakland, ca
LOCATION:Yoshi's, Oakland, CA
WEBSITE:http://www.yoshis.com/oakland/jazzclub/artist/show/1570
URL:http://www.yoshis.com/oakland/jazzclub/artist/show/1570
CONTACT:(51)238-9200
ORGANIZER:Yoshi's Jazz Club and Japanese Restaurant
ATTACH;FMTTYPE="image/jpeg":http://storage.ning.com/topology/rest/1.0/
 file/get/2247885231?profile=original
ATTENDEE;ROLE=REQ-PARTICIPANT;PARTSTAT=ACCEPTED;RSVP=TRUE;CN="Andy She
 pherd":https://trueskool.com/profile/AndyShepherd
END:VEVENT
END:VCALENDAR
