BEGIN:VCALENDAR
PRODID:NingEventWidget-v1
VERSION:2.0
METHOD:PUBLISH
BEGIN:VTIMEZONE
TZID:America/Los_Angeles
X-LIC-LOCATION:America/Los_Angeles
BEGIN:DAYLIGHT
TZOFFSETFROM:-0800
TZOFFSETTO:-0700
TZNAME:PDT
DTSTART:19700308T020000
RRULE:FREQ=YEARLY;BYMONTH=3;BYDAY=2SU
END:DAYLIGHT
BEGIN:STANDARD
TZOFFSETFROM:-0700
TZOFFSETTO:-0800
TZNAME:PST
DTSTART:19701101T020000
RRULE:FREQ=YEARLY;BYMONTH=11;BYDAY=1SU
END:STANDARD
END:VTIMEZONE
BEGIN:VEVENT
UID:1464587:Event:229633
DTSTAMP:20260421T102713Z
SUMMARY:Boyz II Men (Las Vegas)
DESCRIPTION:\nTerry Fator Theatre at Mirage Hotel and CasinoLas Vegas,
  NV07:30 PM\n\nBoyz II Men\nFind Tickets »\n\n\n\n\nFor more inform
 ation visit https://trueskool.com/events/boyz-ii-men-las-vegas-1
DTSTART;TZID=America/Los_Angeles:20130816T193000
DTEND;TZID=America/Los_Angeles:20130818T230000
CATEGORIES:"las vegas", nevada
LOCATION:Terry Fator Theatre at Mirage Hotel and Casino, Las Vegas
WEBSITE:http://www.ticketmaster.com/boyz-ii-men-las-vegas-nevada-08-09
 -2013/event/2E004A23CB7916BB?artistid=734632&majorcatid=10001&minorcat
 id=202&tm_link=artist_msg-0_2E004A23CB7916BB
URL:http://www.ticketmaster.com/boyz-ii-men-las-vegas-nevada-08-09-201
 3/event/2E004A23CB7916BB?artistid=734632&majorcatid=10001&minorcatid=2
 02&tm_link=artist_msg-0_2E004A23CB7916BB
CONTACT:
ORGANIZER;CN="Editor's Pick":https://trueskool.com/profile/RentheVinyl
 Archaeologist
ATTACH;FMTTYPE="image/jpeg":http://storage.ning.com/topology/rest/1.0/
 file/get/2247944195?profile=original
ATTENDEE;ROLE=REQ-PARTICIPANT;PARTSTAT=ACCEPTED;RSVP=TRUE;CN="Editor's
  Pick":https://trueskool.com/profile/RentheVinylArchaeologist
END:VEVENT
END:VCALENDAR
