BEGIN:VCALENDAR
PRODID:NingEventWidget-v1
VERSION:2.0
METHOD:PUBLISH
BEGIN:VTIMEZONE
TZID:America/Los_Angeles
X-LIC-LOCATION:America/Los_Angeles
BEGIN:DAYLIGHT
TZOFFSETFROM:-0800
TZOFFSETTO:-0700
TZNAME:PDT
DTSTART:19700308T020000
RRULE:FREQ=YEARLY;BYMONTH=3;BYDAY=2SU
END:DAYLIGHT
BEGIN:STANDARD
TZOFFSETFROM:-0700
TZOFFSETTO:-0800
TZNAME:PST
DTSTART:19701101T020000
RRULE:FREQ=YEARLY;BYMONTH=11;BYDAY=1SU
END:STANDARD
END:VTIMEZONE
BEGIN:VEVENT
UID:1464587:Event:42363
DTSTAMP:20260421T053351Z
SUMMARY:BOYS NOIZE!
DESCRIPTION:SAT NOV 07\nblasthaus presents\nBOYS NOIZE\nPOWER! Album T
 our\n+Sleazemore & Nisus\nMighty / 119 Utah St / SF / 21+ / $17.50 Ltd
  Advance\nhttp://www.blasthaus.com\n\nBoys Noize returns to SF celebra
 ting the release of his second album, Power! The album has been keenly
  anticipated by a fan-base that follows his every move. Alongside peer
 s Erol Alkan and Justice, Boys Noize (aka Alex Ridha) is part of a new
  mongrel breed of techno artist with a maverick bent and solid vision,
  beaming a myriad of influences from the past through a prism to creat
 e something fresh, new and exciting enough to send his audience loopy.
  Ridha, the founder of Boynoize Records (BNR) consistently pushes the 
 envelope. Power is the much awaited follow-up record to his first, wor
 ld renown album, Oi Oi Oi. With roots from techno, hip hop, disco, and
  electro, the new album encompasses elements of both rave and minimal 
 but also the kind of inspired beats that would make hip hop producers 
 drool. Plug in and get switched on, you won't want to miss this one!\n
 \nFor more information visit https://trueskool.com/events/boys-noize
DTSTART;TZID=America/Los_Angeles:20091107T210000
DTEND;TZID=America/Los_Angeles:20091108T030000
CATEGORIES:techno, electro
LOCATION:Mighty
WEBSITE:http://www.blasthaus.com
URL:http://www.blasthaus.com
CONTACT:
ORGANIZER;CN=blasthaus:https://trueskool.com/profile/blasthaus
ATTACH;FMTTYPE="image/jpeg":http://storage.ning.com/topology/rest/1.0/
 file/get/2247868995?profile=original
ATTENDEE;ROLE=REQ-PARTICIPANT;PARTSTAT=ACCEPTED;RSVP=TRUE;CN=blasthaus
 :https://trueskool.com/profile/blasthaus
END:VEVENT
END:VCALENDAR
