BEGIN:VCALENDAR
PRODID:NingEventWidget-v1
VERSION:2.0
METHOD:PUBLISH
BEGIN:VTIMEZONE
TZID:America/Los_Angeles
X-LIC-LOCATION:America/Los_Angeles
BEGIN:DAYLIGHT
TZOFFSETFROM:-0800
TZOFFSETTO:-0700
TZNAME:PDT
DTSTART:19700308T020000
RRULE:FREQ=YEARLY;BYMONTH=3;BYDAY=2SU
END:DAYLIGHT
BEGIN:STANDARD
TZOFFSETFROM:-0700
TZOFFSETTO:-0800
TZNAME:PST
DTSTART:19701101T020000
RRULE:FREQ=YEARLY;BYMONTH=11;BYDAY=1SU
END:STANDARD
END:VTIMEZONE
BEGIN:VEVENT
UID:1464587:Event:34042
DTSTAMP:20260423T101014Z
SUMMARY:\"Bout It Bout It\" w/ DJ Jayceeoh & DJ Theory live on 4 Turnt
 ables
DESCRIPTION:\"Bout It Bout It\" pt. 1 w/ DJ Jayceeoh (NYC) & DJ Theory
  live on 4 turntables!!Early hip hop warm up w/ DJ Dukes!:: Wednesday,
  June 24th @ 111 Minna Gallery, Downtown SF :: Launch Party for FEVER 
 SF!FREE GIVEAWAYS from Mixer Friendly Clothing!!www.mixerfriendly.comR
 SVP below for $5 entry all night!!FOR MORE INFO VISIT GOING.COM/BOUTIT
 BOUTITLet's gooooo!!!!\n\nFor more information visit https://trueskool
 .com/events/bout-it-bout-it-w-dj-jayceeoh
DTSTART;TZID=America/Los_Angeles:20090624T213000
DTEND;TZID=America/Los_Angeles:20090625T020000
CATEGORIES:hip, hop, club, dance, turntablism, electro, bmore
LOCATION:111 Minna Gallery, San Francisco, CA
WEBSITE:http://111minnagallery.com
URL:http://111minnagallery.com
CONTACT:
ORGANIZER:Fever SF
ATTACH;FMTTYPE="image/jpeg":http://storage.ning.com/topology/rest/1.0/
 file/get/2247858650?profile=original
ATTENDEE;ROLE=REQ-PARTICIPANT;PARTSTAT=ACCEPTED;RSVP=TRUE;CN="Deejay T
 heory":https://trueskool.com/profile/DJTheory
END:VEVENT
END:VCALENDAR
