BEGIN:VCALENDAR
PRODID:NingEventWidget-v1
VERSION:2.0
METHOD:PUBLISH
BEGIN:VTIMEZONE
TZID:America/Los_Angeles
X-LIC-LOCATION:America/Los_Angeles
BEGIN:DAYLIGHT
TZOFFSETFROM:-0800
TZOFFSETTO:-0700
TZNAME:PDT
DTSTART:19700308T020000
RRULE:FREQ=YEARLY;BYMONTH=3;BYDAY=2SU
END:DAYLIGHT
BEGIN:STANDARD
TZOFFSETFROM:-0700
TZOFFSETTO:-0800
TZNAME:PST
DTSTART:19701101T020000
RRULE:FREQ=YEARLY;BYMONTH=11;BYDAY=1SU
END:STANDARD
END:VTIMEZONE
BEGIN:VEVENT
UID:1464587:Event:674643
DTSTAMP:20260421T102833Z
SUMMARY:BottleRock 2018 Silent Disco: Powered by Kaiser Permanente
DESCRIPTION:\r\nBottleRock Napa Valley is excited for the return of th
 e Silent Disco powered by Kaiser Permanente Thrive. Produced for the f
 ifth straight year by HUSHconcerts, this highly curated, 2-channel sil
 ent disco experience will feature 25 of the Bay Area’s finest DJ’s
  from the region’s most famed DJ families. Dance, lounge, gawk or ch
 eck in with Kaiser Permanente to recharge (your phone), refresh (your 
 sunscreen) and relax with a fun photo in the photo booth. The 2018 lin
 eup will include 219 Boys, 4NR, 8 Ball, Chuck Jones, DJ Alarm, DJ Bria
 n Williams, DJ Icon, DJ Malarkey, DJ Platurn, DJ Tyme, Gordo Cabeza, J
 ustin Milla, Mancub, Michael Milano, Motion Potion, MPHD, Ren the Viny
 l Archaeologist, Shooey, Shouts!, Sound it Out!, Syd Gris, TekFreaks, 
 Tobiwan, and Zebuel. These Bay Area stalwarts will grace the decks wit
 h everything from old school and new school disco and hip hop, motown 
 soul, tropical beats, breaks, house, edm, bass music, trap, and some s
 pecial theme sets to be announced!@ BottleRock Festival, 575 3RD ST. N
 APA, CA\r\nMore info at https://www.facebook.com/events/17091441357953
 65/\n\nFor more information visit https://trueskool.com/events/bottler
 ock-2018-silent-disco-powered-by-kaiser-permanente
DTSTART;TZID=America/Los_Angeles:20180525T120000
DTEND;TZID=America/Los_Angeles:20180528T220000
CATEGORIES:"bay area", napa
LOCATION:BottleRock Festival
WEBSITE:https://www.facebook.com/events/1709144135795365/
URL:https://www.facebook.com/events/1709144135795365/
CONTACT:
ORGANIZER:HUSHconcerts
ATTACH;FMTTYPE="image/jpeg":http://storage.ning.com/topology/rest/1.0/
 file/get/2248006145?profile=original
ATTENDEE;ROLE=REQ-PARTICIPANT;PARTSTAT=ACCEPTED;RSVP=TRUE;CN="Editor's
  Pick":https://trueskool.com/profile/RentheVinylArchaeologist
END:VEVENT
END:VCALENDAR
