BEGIN:VCALENDAR
PRODID:NingEventWidget-v1
VERSION:2.0
METHOD:PUBLISH
BEGIN:VTIMEZONE
TZID:America/Los_Angeles
X-LIC-LOCATION:America/Los_Angeles
BEGIN:DAYLIGHT
TZOFFSETFROM:-0800
TZOFFSETTO:-0700
TZNAME:PDT
DTSTART:19700308T020000
RRULE:FREQ=YEARLY;BYMONTH=3;BYDAY=2SU
END:DAYLIGHT
BEGIN:STANDARD
TZOFFSETFROM:-0700
TZOFFSETTO:-0800
TZNAME:PST
DTSTART:19701101T020000
RRULE:FREQ=YEARLY;BYMONTH=11;BYDAY=1SU
END:STANDARD
END:VTIMEZONE
BEGIN:VEVENT
UID:1464587:Event:63939
DTSTAMP:20260420T230753Z
SUMMARY:Booze Em Buddiez 9 : Nolte's 30th BDay : It's Kind of a BIG de
 al
DESCRIPTION:\n\nIts my 30th Birthday.....it's kind of a BIG deal. Booz
 e Em Buddiez 9... for those that study numerology... the # 9... it's k
 ind of a BIG deal. It's my 5th Anniversary as an event coordinator... 
 so... it's kind of a BIG deal.\n\nWe got live entertainment from:\n\nT
 he Kid Rated R\nHolly Saucy\nThe Purple Team\nRey Resurreccion\nBwan\n
 The Jinxx\n\nProviding the MIXOLOGY:\nJah Yzer and Beats Me\n\nSpicey 
 Promotions and Naybahud Visionz\nBooze Em Buddiez 9... It's Kind of a 
 BIG Deal\n\n\nFor more information visit https://trueskool.com/events/
 booze-em-buddiez-9-noltes
DTSTART;TZID=America/Los_Angeles:20100819T213000
DTEND;TZID=America/Los_Angeles:20100820T020000
CATEGORIES:san, francisco, "ca."
LOCATION:The Rock It Room
WEBSITE:http://maps.google.com/maps?hl=en&q=406+Clement+St,+San+Franci
 sco,+CA+94118&um=1&ie=UTF-8&hq=&hnear=406+Clement+St,+San+Francisco,+C
 A+94118&gl=us&ei=-65RTLDsMIG-sQOm18yFAQ&sa=X&oi=geocode_result&ct=titl
 e&resnum=1&ved=0CBcQ8gEwAA
URL:http://maps.google.com/maps?hl=en&q=406+Clement+St,+San+Francisco,
 +CA+94118&um=1&ie=UTF-8&hq=&hnear=406+Clement+St,+San+Francisco,+CA+94
 118&gl=us&ei=-65RTLDsMIG-sQOm18yFAQ&sa=X&oi=geocode_result&ct=title&re
 snum=1&ved=0CBcQ8gEwAA
CONTACT:
ORGANIZER:BOOZE EM BUDDIEZ
ATTACH;FMTTYPE="image/jpeg":http://storage.ning.com/topology/rest/1.0/
 file/get/2247882805?profile=original
ATTENDEE;ROLE=REQ-PARTICIPANT;PARTSTAT=ACCEPTED;RSVP=TRUE;CN="The Home
 y Nick Nolte":https://trueskool.com/profile/TheHomeyNickNolte
END:VEVENT
END:VCALENDAR
