BEGIN:VCALENDAR
PRODID:NingEventWidget-v1
VERSION:2.0
METHOD:PUBLISH
BEGIN:VTIMEZONE
TZID:America/Los_Angeles
X-LIC-LOCATION:America/Los_Angeles
BEGIN:DAYLIGHT
TZOFFSETFROM:-0800
TZOFFSETTO:-0700
TZNAME:PDT
DTSTART:19700308T020000
RRULE:FREQ=YEARLY;BYMONTH=3;BYDAY=2SU
END:DAYLIGHT
BEGIN:STANDARD
TZOFFSETFROM:-0700
TZOFFSETTO:-0800
TZNAME:PST
DTSTART:19701101T020000
RRULE:FREQ=YEARLY;BYMONTH=11;BYDAY=1SU
END:STANDARD
END:VTIMEZONE
BEGIN:VEVENT
UID:1464587:Event:41660
DTSTAMP:20260420T213050Z
SUMMARY:BONOBO (Ninjatune)
DESCRIPTION:SAT OCT 24\nblasthaus presents\nBONOBO\nPlus, Tal Klein\nM
 ighty / SF / 21+ / $13 Ltd Adv\nhttp://www.blasthaus.com\n\nIt goes wi
 thout saying that one of the most original and exciting DJ/Producers o
 n the planet right now is BONOBO. After an incredible live tour earlie
 r this year, he's back again with an exclusive DJ set. He set about bu
 ilding his DJ style in the same way he produces refreshingly original 
 music, refusing to conform to the preconceived ideas of a laid back st
 yle, and aiming headlong for the dancefloor, with a heavy mixture of h
 ip hop, weighty jazz, broken beats, Latin, funk, and soul, with the oc
 casional cheeky bit of psyche rock and drum and bass thrown in. Just t
 o keep you on yer toes right? Now a DJ of international repute, Bonobo
  has played all over the world, and recently played to huge audiences 
 across the US and Europe with his live band. This progress culminated 
 in Ninja Tune asking him to put together a Solid Steel mix album. Bugg
 er the lounge, lets dance.\n\nSo get ready for another exciting night 
 from one of our favorite Ninjas with support from SF's own TAL M. KLEI
 N (Aniligital/Goodgroove) will keep the vibe bumpin.\n\nFor more infor
 mation visit https://trueskool.com/events/bonobo-ninjatune
DTSTART;TZID=America/Los_Angeles:20091024T210000
DTEND;TZID=America/Los_Angeles:20091025T020000
CATEGORIES:hip, hop, funk, house, electro, old, school
LOCATION:Mighty
WEBSITE:http://www.blasthaus.com
URL:http://www.blasthaus.com
CONTACT:
ORGANIZER;CN=blasthaus:https://trueskool.com/profile/blasthaus
ATTACH;FMTTYPE="image/jpeg":http://storage.ning.com/topology/rest/1.0/
 file/get/2247866521?profile=original
ATTENDEE;ROLE=REQ-PARTICIPANT;PARTSTAT=ACCEPTED;RSVP=TRUE;CN=blasthaus
 :https://trueskool.com/profile/blasthaus
END:VEVENT
END:VCALENDAR
