BEGIN:VCALENDAR
PRODID:NingEventWidget-v1
VERSION:2.0
METHOD:PUBLISH
BEGIN:VTIMEZONE
TZID:America/Los_Angeles
X-LIC-LOCATION:America/Los_Angeles
BEGIN:DAYLIGHT
TZOFFSETFROM:-0800
TZOFFSETTO:-0700
TZNAME:PDT
DTSTART:19700308T020000
RRULE:FREQ=YEARLY;BYMONTH=3;BYDAY=2SU
END:DAYLIGHT
BEGIN:STANDARD
TZOFFSETFROM:-0700
TZOFFSETTO:-0800
TZNAME:PST
DTSTART:19701101T020000
RRULE:FREQ=YEARLY;BYMONTH=11;BYDAY=1SU
END:STANDARD
END:VTIMEZONE
BEGIN:VEVENT
UID:1464587:Event:672341
DTSTAMP:20260421T125401Z
SUMMARY:Bone Thugs-N-Harmony
DESCRIPTION:ENTER TO WIN A PAIR OF TICKETS. WINNER WILL BE DRAWN RANDO
 MLY AND ANNOUNCED 2 DAYS PRIOR TO EVENT.\r\n MONDAY, FEB 19 Goldenvoic
 e Presents: Bone Thugs-N-Harmony\r\nThe Regency Ballroom, SF >> BUY TI
 CKETS\r\n \r\n\r\n\n\nFor more information visit https://trueskool.com
 /events/bone-thugs-n-harmony-2
DTSTART;TZID=America/Los_Angeles:20180219T200000
DTEND;TZID=America/Los_Angeles:20180219T230000
CATEGORIES:"bay area", "san francisco"
LOCATION:Regency Ballroom, San Francisco
WEBSITE:http://axs.com/events/348202/bone-thugs-n-harmony-tickets
URL:http://axs.com/events/348202/bone-thugs-n-harmony-tickets
CONTACT:
ORGANIZER:Goldenvoice
ATTACH;FMTTYPE="image/jpeg":http://storage.ning.com/topology/rest/1.0/
 file/get/2248004536?profile=original
ATTENDEE;ROLE=REQ-PARTICIPANT;PARTSTAT=ACCEPTED;RSVP=TRUE;CN="Elisa Bj
 eldanes":https://trueskool.com/profile/ElisaBjeldanes
ATTENDEE;ROLE=REQ-PARTICIPANT;PARTSTAT=ACCEPTED;RSVP=TRUE;CN="Editor's
  Pick":https://trueskool.com/profile/RentheVinylArchaeologist
END:VEVENT
END:VCALENDAR
