BEGIN:VCALENDAR
PRODID:NingEventWidget-v1
VERSION:2.0
METHOD:PUBLISH
BEGIN:VTIMEZONE
TZID:America/Los_Angeles
X-LIC-LOCATION:America/Los_Angeles
BEGIN:DAYLIGHT
TZOFFSETFROM:-0800
TZOFFSETTO:-0700
TZNAME:PDT
DTSTART:19700308T020000
RRULE:FREQ=YEARLY;BYMONTH=3;BYDAY=2SU
END:DAYLIGHT
BEGIN:STANDARD
TZOFFSETFROM:-0700
TZOFFSETTO:-0800
TZNAME:PST
DTSTART:19701101T020000
RRULE:FREQ=YEARLY;BYMONTH=11;BYDAY=1SU
END:STANDARD
END:VTIMEZONE
BEGIN:VEVENT
UID:1464587:Event:444322
DTSTAMP:20260421T020300Z
SUMMARY:Bone Thugs-N-Harmony 11/20 [LA]
DESCRIPTION:\nBone Thugs-N-Harmony\n\n\nHouse of Blues Sunset Strip We
 st Hollywood, CA\n\nThu, 11/20/1407:00 PM\n\nSee Ticketson Live Nation
 \n\n\n\n\n\n\nFor more information visit https://trueskool.com/events/
 bone-thugs-n-harmony-11-20-la
DTSTART;TZID=America/Los_Angeles:20141120T190000
DTEND;TZID=America/Los_Angeles:20141120T230000
CATEGORIES:"los angeles"
LOCATION:House of Blues Sunset Strip West Hollywood, CA
WEBSITE:http://www.ticketmaster.com/partner_redirect?v=7gPaAGrpMa11p0Q
 9eVZfpAXbDYpeDdGXLcoRIfbGbZ1P6GBSR2lgzRvymJqBvorx1Z_yRjWkfF6KNUnQe_5Ke
 CM-AxMaJAa7rt6WJFGapFsReClkJgNfewXgs0DJJxN4kxgVtA&eventid=09004D2517FB
 8C07&artistid=821228&artistname=Bone%20Thugs-N-Harmony&crosssite=TM_US
 :821228:73807&tm_link=browse_msg-0_09004D2517FB8C07
URL:http://www.ticketmaster.com/partner_redirect?v=7gPaAGrpMa11p0Q9eVZ
 fpAXbDYpeDdGXLcoRIfbGbZ1P6GBSR2lgzRvymJqBvorx1Z_yRjWkfF6KNUnQe_5KeCM-A
 xMaJAa7rt6WJFGapFsReClkJgNfewXgs0DJJxN4kxgVtA&eventid=09004D2517FB8C07
 &artistid=821228&artistname=Bone%20Thugs-N-Harmony&crosssite=TM_US:821
 228:73807&tm_link=browse_msg-0_09004D2517FB8C07
CONTACT:
ORGANIZER:Editor's Pick
ATTACH;FMTTYPE="image/jpeg":http://storage.ning.com/topology/rest/1.0/
 file/get/2247970707?profile=original
ATTENDEE;ROLE=REQ-PARTICIPANT;PARTSTAT=ACCEPTED;RSVP=TRUE;CN="Ren the 
 Vinyl Archaeologist":https://trueskool.com/profile/xh51jvilojur
END:VEVENT
END:VCALENDAR
