BEGIN:VCALENDAR
PRODID:NingEventWidget-v1
VERSION:2.0
METHOD:PUBLISH
BEGIN:VTIMEZONE
TZID:America/Los_Angeles
X-LIC-LOCATION:America/Los_Angeles
BEGIN:DAYLIGHT
TZOFFSETFROM:-0800
TZOFFSETTO:-0700
TZNAME:PDT
DTSTART:19700308T020000
RRULE:FREQ=YEARLY;BYMONTH=3;BYDAY=2SU
END:DAYLIGHT
BEGIN:STANDARD
TZOFFSETFROM:-0700
TZOFFSETTO:-0800
TZNAME:PST
DTSTART:19701101T020000
RRULE:FREQ=YEARLY;BYMONTH=11;BYDAY=1SU
END:STANDARD
END:VTIMEZONE
BEGIN:VEVENT
UID:1464587:Event:661402
DTSTAMP:20260423T041621Z
SUMMARY:BODY ROCK w MR. SONNY JAMES
DESCRIPTION:Illvibe & Mark Divita Present:  BODYROCK  w/ Resident  Mr.
  Sonny James  John Colins 138 Minna St. San Francisco, CA Cover After 
 11pm 21 w/id https://www.mrsonnyjames.com https://www.illvibe.com #BOD
 YROCKsf\n\nFor more information visit https://trueskool.com/events/bod
 y-rock-w-mr-sonny-james
DTSTART;TZID=America/Los_Angeles:20170415T220000
DTEND;TZID=America/Los_Angeles:20170416T020000
CATEGORIES:san, francisco, soma, financial, district
LOCATION:John Colins, San Francisco, CA
WEBSITE:http://johncolins.com/events/bodyrock/
URL:http://johncolins.com/events/bodyrock/
CONTACT:
ORGANIZER;CN=JohnColins:https://trueskool.com/profile/JohnColins27
ATTACH;FMTTYPE="image/jpeg":http://storage.ning.com/topology/rest/1.0/
 file/get/2247995963?profile=original
ATTENDEE;ROLE=REQ-PARTICIPANT;PARTSTAT=ACCEPTED;RSVP=TRUE;CN=JohnColin
 s:https://trueskool.com/profile/JohnColins27
END:VEVENT
END:VCALENDAR
