BEGIN:VCALENDAR
PRODID:NingEventWidget-v1
VERSION:2.0
METHOD:PUBLISH
BEGIN:VTIMEZONE
TZID:America/Los_Angeles
X-LIC-LOCATION:America/Los_Angeles
BEGIN:DAYLIGHT
TZOFFSETFROM:-0800
TZOFFSETTO:-0700
TZNAME:PDT
DTSTART:19700308T020000
RRULE:FREQ=YEARLY;BYMONTH=3;BYDAY=2SU
END:DAYLIGHT
BEGIN:STANDARD
TZOFFSETFROM:-0700
TZOFFSETTO:-0800
TZNAME:PST
DTSTART:19701101T020000
RRULE:FREQ=YEARLY;BYMONTH=11;BYDAY=1SU
END:STANDARD
END:VTIMEZONE
BEGIN:VEVENT
UID:1464587:Event:679808
DTSTAMP:20260421T082831Z
SUMMARY:BOB JAMES
DESCRIPTION:BOB JAMES\r\nThursday Dec 6, 2018 Doors: 7:30 PM  Show: 8:
 00 PM\r\n$34 - $69\r\nYoshi's Oakland 510 Embarcadero West  Oakland, C
 A\n\nFor more information visit https://trueskool.com/events/bob-james
 -1
DTSTART;TZID=America/Los_Angeles:20181206T200000
DTEND;TZID=America/Los_Angeles:20181206T230000
CATEGORIES:"bay area", oakland, "san francisco", "san jose", berkeley
LOCATION:Oakland, San Francisco
WEBSITE:https://www.ticketfly.com/purchase/event/1693316?_ga=2.2662368
 15.1050601982.1541099759-1928809326.1539459453&amp;__utma=1.595339009.
 1539459453.1541099759.1541104311.3&amp;__utmb=1.9.10.1541104311&amp;__
 utmc=1&amp;__utmx=-&amp;__utmz=1.1541099759.2.2.utmcsr=google|utmccn=(
 organic)|utmcmd=organic|utmctr=(not%20provided)&amp;__utmv=-&amp;__utm
 k=6912306
URL:https://www.ticketfly.com/purchase/event/1693316?_ga=2.266236815.1
 050601982.1541099759-1928809326.1539459453&amp;__utma=1.595339009.1539
 459453.1541099759.1541104311.3&amp;__utmb=1.9.10.1541104311&amp;__utmc
 =1&amp;__utmx=-&amp;__utmz=1.1541099759.2.2.utmcsr=google|utmccn=(orga
 nic)|utmcmd=organic|utmctr=(not%20provided)&amp;__utmv=-&amp;__utmk=69
 12306
CONTACT:
ORGANIZER;CN="Editor's Pick":https://trueskool.com/profile/RentheVinyl
 Archaeologist
ATTACH;FMTTYPE="image/jpeg":http://storage.ning.com/topology/rest/1.0/
 file/get/2248013711?profile=original
ATTENDEE;ROLE=REQ-PARTICIPANT;PARTSTAT=ACCEPTED;RSVP=TRUE;CN="Editor's
  Pick":https://trueskool.com/profile/RentheVinylArchaeologist
END:VEVENT
END:VCALENDAR
