BEGIN:VCALENDAR
PRODID:NingEventWidget-v1
VERSION:2.0
METHOD:PUBLISH
BEGIN:VTIMEZONE
TZID:America/Los_Angeles
X-LIC-LOCATION:America/Los_Angeles
BEGIN:DAYLIGHT
TZOFFSETFROM:-0800
TZOFFSETTO:-0700
TZNAME:PDT
DTSTART:19700308T020000
RRULE:FREQ=YEARLY;BYMONTH=3;BYDAY=2SU
END:DAYLIGHT
BEGIN:STANDARD
TZOFFSETFROM:-0700
TZOFFSETTO:-0800
TZNAME:PST
DTSTART:19701101T020000
RRULE:FREQ=YEARLY;BYMONTH=11;BYDAY=1SU
END:STANDARD
END:VTIMEZONE
BEGIN:VEVENT
UID:1464587:Event:673384
DTSTAMP:20260421T165859Z
SUMMARY:Blurry Vision feat. SZA, MIGOS, NxWorries (Anderson Paak x Kno
 wledge), Majid Jordan, Kamaiyah...
DESCRIPTION:ENTER TO WIN A PAIR OF TICKETS. WINNER WILL BE DRAWN RANDO
 MLY AND ANNOUNCED 2 DAYS PRIOR TO EVENT. Saturday-Sunday, May 12-13 Bl
 urry Vision \r\n\r\nFeaturing SZA, MIGOS, NxWorries (Anderson Paak x K
 nowledge), Majid Jordan, Kamaiyah, DVSN, Isaiah Rashad, Alina Baraz, R
 oy Wood$, Smino, Sango, Joji, Xavier Omar, Clairo, Rejjie Snow, Trinid
 ad Cardona, Healy, Caleon Fox, Temporex\r\n@ Middle Harbor Shoreline P
 ark, Oakland Tickets on sale Friday, March 2nd at 10am PT >> BUY TICKE
 TS\r\n\r\n\n\nFor more information visit https://trueskool.com/events/
 blurry-vision-feat-sza-migos-nxworries-anderson-paak-x-knowledge-
DTSTART;TZID=America/Los_Angeles:20180512T120000
DTEND;TZID=America/Los_Angeles:20180513T220000
CATEGORIES:"bay area", "san francisco"
LOCATION:Middle Harbor Shoreline Park, Oakland
WEBSITE:http://www.Blurryvisionfest.com
URL:http://www.Blurryvisionfest.com
CONTACT:
ORGANIZER:Goldenvoice
ATTACH;FMTTYPE="image/jpeg":http://storage.ning.com/topology/rest/1.0/
 file/get/2248005869?profile=original
ATTENDEE;ROLE=REQ-PARTICIPANT;PARTSTAT=ACCEPTED;RSVP=TRUE;CN="Donte Ha
 rrison":https://trueskool.com/profile/DonteHarrison
ATTENDEE;ROLE=REQ-PARTICIPANT;PARTSTAT=ACCEPTED;RSVP=TRUE;CN="Editor's
  Pick":https://trueskool.com/profile/RentheVinylArchaeologist
END:VEVENT
END:VCALENDAR
