BEGIN:VCALENDAR
PRODID:NingEventWidget-v1
VERSION:2.0
METHOD:PUBLISH
BEGIN:VTIMEZONE
TZID:America/Los_Angeles
X-LIC-LOCATION:America/Los_Angeles
BEGIN:DAYLIGHT
TZOFFSETFROM:-0800
TZOFFSETTO:-0700
TZNAME:PDT
DTSTART:19700308T020000
RRULE:FREQ=YEARLY;BYMONTH=3;BYDAY=2SU
END:DAYLIGHT
BEGIN:STANDARD
TZOFFSETFROM:-0700
TZOFFSETTO:-0800
TZNAME:PST
DTSTART:19701101T020000
RRULE:FREQ=YEARLY;BYMONTH=11;BYDAY=1SU
END:STANDARD
END:VTIMEZONE
BEGIN:VEVENT
UID:1464587:Event:371164
DTSTAMP:20260421T052702Z
SUMMARY:Blunt Club Oakland With The Bar (Bambu and Prometheus Brown), 
 Tapas, Do DAT Friday june 27th!
DESCRIPTION:Friday June 27th!  Blunt Club Oakland Proudly presents:  T
 he Bar (Prometheus Brown from Blue Scholars and Bambu) (http://thebarm
 usic.tumblr.com/)  Tapas (Very G and DJ Organic)  Do DAT  Alongside re
 sident DJ's:  SAURUS ~ MAX KANE ~ DION DECIBELS  and your Host:  KARIM
  AKA NIGHTCLUBBERLANG  Doors at 9pm - 21 and up - $10 Cover  Legionnai
 re Saloon 2272 Telegraph Ave. Oakland, CA 94612\n\nFor more informatio
 n visit https://trueskool.com/events/blunt-club-oakland-with-the-bar-b
 ambu-and-prometheus-brown-tapas
DTSTART;TZID=America/Los_Angeles:20140627T210000
DTEND;TZID=America/Los_Angeles:20140628T010000
CATEGORIES:oakland
LOCATION:The Legionnaire Saloon, Oakland, CA
WEBSITE:https://www.facebook.com/events/226988124177379/
URL:https://www.facebook.com/events/226988124177379/
CONTACT:
ORGANIZER;CN="Karim aka Nightclubber Lang":https://trueskool.com/profi
 le/KarimakaNightclubberLang
ATTACH;FMTTYPE="image/jpeg":http://storage.ning.com/topology/rest/1.0/
 file/get/2247971476?profile=original
ATTENDEE;ROLE=REQ-PARTICIPANT;PARTSTAT=ACCEPTED;RSVP=TRUE;CN="Karim ak
 a Nightclubber Lang":https://trueskool.com/profile/KarimakaNightclubbe
 rLang
END:VEVENT
END:VCALENDAR
