BEGIN:VCALENDAR
PRODID:NingEventWidget-v1
VERSION:2.0
METHOD:PUBLISH
BEGIN:VTIMEZONE
TZID:America/Los_Angeles
X-LIC-LOCATION:America/Los_Angeles
BEGIN:DAYLIGHT
TZOFFSETFROM:-0800
TZOFFSETTO:-0700
TZNAME:PDT
DTSTART:19700308T020000
RRULE:FREQ=YEARLY;BYMONTH=3;BYDAY=2SU
END:DAYLIGHT
BEGIN:STANDARD
TZOFFSETFROM:-0700
TZOFFSETTO:-0800
TZNAME:PST
DTSTART:19701101T020000
RRULE:FREQ=YEARLY;BYMONTH=11;BYDAY=1SU
END:STANDARD
END:VTIMEZONE
BEGIN:VEVENT
UID:1464587:Event:324740
DTSTAMP:20260421T070247Z
SUMMARY:BLUNT CLUB OAKLAND feat. ZUMBI ZOOM, VINROC, & SAYKNOWLEDGE.
DESCRIPTION:FRIDAY MARCH 28th  BLUNT CLUB OAKLAND PRESENTS  This month
 s special guests:  ZUMBI ZOOM & DJ VINROC SAYKNOWLEDGE  Alongside resi
 dent DJ's:  SAURUS ~ MAX KANE ~ DION DECIBELS  and your Host:  KARIM A
 KA NIGHTCLUBBERLANG  Doors at 9pm - 21 and up - $10 Cover  Legionnaire
  Saloon 2272 Telegraph Ave. Oakland, CA 94612\n\nFor more information 
 visit https://trueskool.com/events/blunt-club-oakland-feat-zumbi-zoom-
 vinroc-sayknowledge
DTSTART;TZID=America/Los_Angeles:20140328T000000
DTEND;TZID=America/Los_Angeles:20140328T235900
CATEGORIES:oakland
LOCATION:Legionnaire Saloon, Oakland, CA
WEBSITE:https://www.facebook.com/events/731620360196135/
URL:https://www.facebook.com/events/731620360196135/
CONTACT:
ORGANIZER;CN="Karim aka Nightclubber Lang":https://trueskool.com/profi
 le/KarimakaNightclubberLang
ATTACH;FMTTYPE="image/jpeg":
ATTENDEE;ROLE=REQ-PARTICIPANT;PARTSTAT=ACCEPTED;RSVP=TRUE;CN="Amanda P
 anda":https://trueskool.com/profile/hierohead
ATTENDEE;ROLE=REQ-PARTICIPANT;PARTSTAT=ACCEPTED;RSVP=TRUE;CN="m.deep.m
 usic":https://trueskool.com/profile/mdeepmusic
ATTENDEE;ROLE=REQ-PARTICIPANT;PARTSTAT=ACCEPTED;RSVP=TRUE;CN="Karim ak
 a Nightclubber Lang":https://trueskool.com/profile/KarimakaNightclubbe
 rLang
END:VEVENT
END:VCALENDAR
