BEGIN:VCALENDAR
PRODID:NingEventWidget-v1
VERSION:2.0
METHOD:PUBLISH
BEGIN:VTIMEZONE
TZID:America/Los_Angeles
X-LIC-LOCATION:America/Los_Angeles
BEGIN:DAYLIGHT
TZOFFSETFROM:-0800
TZOFFSETTO:-0700
TZNAME:PDT
DTSTART:19700308T020000
RRULE:FREQ=YEARLY;BYMONTH=3;BYDAY=2SU
END:DAYLIGHT
BEGIN:STANDARD
TZOFFSETFROM:-0700
TZOFFSETTO:-0800
TZNAME:PST
DTSTART:19701101T020000
RRULE:FREQ=YEARLY;BYMONTH=11;BYDAY=1SU
END:STANDARD
END:VTIMEZONE
BEGIN:VEVENT
UID:1464587:Event:25829
DTSTAMP:20260422T122558Z
SUMMARY:BLUEPRINT - hosted by Beat Farm Productions
DESCRIPTION:Hey Party People!!! Come out to the Grand Opening Party of
  BLUEPRINT @ Azuli in San Mateo!\n\nFor Grand Opening - Ladies are FRE
 E ALL NIGHT and guys are free before 10:30pm - and only $10 thereafter
 . If anyone wants bottle service, email beatfarmpro@gmail.com to make 
 arrangements since we have 4 dedicated VIP sections. Feel free to pass
  this on to anyone that might want to check it out!\n\nFor more info: 
 email beatfarmpro@gmail.com or visit Azuli Lounge\n\nFor more informat
 ion visit https://trueskool.com/events/blueprint-hosted-by-beat-farm
DTSTART;TZID=America/Los_Angeles:20090130T210000
DTEND;TZID=America/Los_Angeles:20090131T020000
CATEGORIES:hip, hop, reggae, "r&b", old, school, house, booty, "shakin
 '", "music!!!"
LOCATION:Azuli Lounge, San Mateo, CA
WEBSITE:http://www.azulilounge.com/index.html
URL:http://www.azulilounge.com/index.html
CONTACT:949.400.6969
ORGANIZER;CN="Beat Farm Productions":https://trueskool.com/profile/Bea
 tFarmProductions
ATTACH;FMTTYPE="image/jpeg":http://storage.ning.com/topology/rest/1.0/
 file/get/2247854022?profile=original
ATTENDEE;ROLE=REQ-PARTICIPANT;PARTSTAT=ACCEPTED;RSVP=TRUE;CN="Beat Far
 m Productions":https://trueskool.com/profile/BeatFarmProductions
END:VEVENT
END:VCALENDAR
