BEGIN:VCALENDAR
PRODID:NingEventWidget-v1
VERSION:2.0
METHOD:PUBLISH
BEGIN:VTIMEZONE
TZID:America/Los_Angeles
X-LIC-LOCATION:America/Los_Angeles
BEGIN:DAYLIGHT
TZOFFSETFROM:-0800
TZOFFSETTO:-0700
TZNAME:PDT
DTSTART:19700308T020000
RRULE:FREQ=YEARLY;BYMONTH=3;BYDAY=2SU
END:DAYLIGHT
BEGIN:STANDARD
TZOFFSETFROM:-0700
TZOFFSETTO:-0800
TZNAME:PST
DTSTART:19701101T020000
RRULE:FREQ=YEARLY;BYMONTH=11;BYDAY=1SU
END:STANDARD
END:VTIMEZONE
BEGIN:VEVENT
UID:1464587:Event:30448
DTSTAMP:20260420T230656Z
SUMMARY:Blu and Exile w/ Zaki Ibrahim and DJ Goldenchyld...May 1
DESCRIPTION:Join Ungrammar and NewSense every First Friday for live pe
 rformances at the Blank Club. First up we have emcee Blu with DJ Exile
 . Plus, special guest opener Toronto's next voice of Soul, Zaki Ibrahi
 m. And last but not least, San Jose's own DJ Goldenchyld (Fingerbanger
 z) holding down the 1's and 2's.\n\nBlu and DJ Exile\nZaki Ibrahim\nDJ
  Goldenchyld\n\nFriday, May 1st, 2009\n@ The Blank Club\ndoors @ 9:30p
 m\n\n$12 Pre-sale Now available @\nhttp://www.ticketweb.com/t3/sale/Sa
 leEventDetail?dispatch=loadSelectionData&eventId=1310054\n\nBlu:\n\n\n
 http://www.myspace.com/herfavcolor\nPLAYLIST: http://www.imeem.com/peo
 ple/j06Fztl/playlist/GeHj5YDG/blu-mix-music-playlist/\n\nLos Angeles b
 ased emcee touches down in San Jose to deliver a live performance of m
 ost of his works and collaborations to date. Blu has gained increased 
 attention for his steady work and consistency in the game. From his wo
 rk with Ta'raach on C.R.A.C., to work with Mainframe on the Johnson an
 d Johnson LP, and his fan favorite Below the Heavens LP with DJ Exile 
 handling production on that one. Blu has steadfast thrown himself into
  the next of the next in Hip Hop artistry.\n\n\nDJ Exile:\n\nhttp://ww
 w.myspace.com/alexile\n\nI'd like to start with Exile where most heads
  know, when he met then 16 year old rapper Aloe Blacc and began record
 ing songs on the four track and selling many albums with their music o
 n one side and a mixtape on the other. Together they formed Emanon and
  have been making music ever since. The two later met then 19 year old
  rapper blu who started to work with Exile on his solo effort, Dirty S
 cience, with tracks featuring artists ranging from Slum Village, MED, 
 to Ghostface Killa. Right after thier first studio session the two sta
 rted to talk about an album together, later making the critically accl
 aimed classic Blu and Exile's Below The Heavens. After production work
  with Mobb Deep, Jurassic 5, Akon, Snoop Dogg and others he continues 
 to excel in the art with instrumental projects coming out later this y
 ear,another Blu album, another Emanon LP and a few surprises guarantee
 d to catch people off guard. Keep your ears open. Exile has just begun
 ...\n\n\nZaki Ibrahim:\n\nhttp://www.myspace.com/zakiibrahim\n\nZaki I
 brahim’s music is captivating and vibrant. It’s thick with poetics
  and steeped in a delicious mixture of earnest emotion and social comm
 entary. Zaki’s path continues to progress, layering new experiences 
 on top of each other that uniquely influence her musical ventures, cul
 minating in her most recent project, Eclectica (Episodes in Purple).\n
 \nZaki’s road has been paved with creative encounters that have prop
 elled her forward – from a childhood steeped in musical influences, 
 to performing at Capetown’s historic Armchair Theatre, then touring 
 Canada with South Africa’s Tumi and the Volume, The Legendary Roots,
  and Bedouin Soundclash, to collaborating with famed DJ/Producer King 
 Britt.\n\nFor more information visit https://trueskool.com/events/blu-
 and-exile-w-zaki-ibrahim
DTSTART;TZID=America/Los_Angeles:20090501T210000
DTEND;TZID=America/Los_Angeles:20090502T020000
CATEGORIES:hip, hop, funk, "r&b", electro
LOCATION:Blank Club, San Jose, CA
WEBSITE:http://maps.google.com/maps?hl=en&ie=UTF-8&q=blank+club+san+jo
 se&fb=1&split=1&gl=us&dtab=2&pcsi=15868005092301782490,1&ei=z7faSZ-fNa
 C0tAOgyOHmBg&cid=15868005092301782490&li=lmd&z=14&t=m
URL:http://maps.google.com/maps?hl=en&ie=UTF-8&q=blank+club+san+jose&f
 b=1&split=1&gl=us&dtab=2&pcsi=15868005092301782490,1&ei=z7faSZ-fNaC0tA
 OgyOHmBg&cid=15868005092301782490&li=lmd&z=14&t=m
CONTACT:4087684245
ORGANIZER:Michael Grammer (NewSense) and Thomas Aguilar (UnGrammar)
ATTACH;FMTTYPE="image/jpeg":http://storage.ning.com/topology/rest/1.0/
 file/get/2247856166?profile=original
ATTENDEE;ROLE=REQ-PARTICIPANT;PARTSTAT=ACCEPTED;RSVP=TRUE;CN="Michael 
 Grammer":https://trueskool.com/profile/MichaelGrammer
END:VEVENT
END:VCALENDAR
