BEGIN:VCALENDAR
PRODID:NingEventWidget-v1
VERSION:2.0
METHOD:PUBLISH
BEGIN:VTIMEZONE
TZID:America/Los_Angeles
X-LIC-LOCATION:America/Los_Angeles
BEGIN:DAYLIGHT
TZOFFSETFROM:-0800
TZOFFSETTO:-0700
TZNAME:PDT
DTSTART:19700308T020000
RRULE:FREQ=YEARLY;BYMONTH=3;BYDAY=2SU
END:DAYLIGHT
BEGIN:STANDARD
TZOFFSETFROM:-0700
TZOFFSETTO:-0800
TZNAME:PST
DTSTART:19701101T020000
RRULE:FREQ=YEARLY;BYMONTH=11;BYDAY=1SU
END:STANDARD
END:VTIMEZONE
BEGIN:VEVENT
UID:1464587:Event:278783
DTSTAMP:20260421T033314Z
SUMMARY:Block Report Radio's - Internet Station Campaign
DESCRIPTION:This fundraising campaign is to acquire equipment and firs
 t year start-up costs for the innovative.Â  BANNED BY KPFA/PACIFICA -Â
   Block Report Radio Station.\n\nFor more information visit https://tr
 ueskool.com/events/block-report-radio-s-internet-station-campaign
DTSTART;TZID=America/Los_Angeles:20131129T180000
DTEND;TZID=America/Los_Angeles:20140113T234500
CATEGORIES:community, donate, "block report radio", "internet radio", 
 banned
LOCATION:World Wide
WEBSITE:http://igg.me/p/603778/x/5562165
URL:http://igg.me/p/603778/x/5562165
CONTACT:
ORGANIZER;CN="Block Report Radio":https://trueskool.com/profile/BlockR
 eportRadio
ATTACH;FMTTYPE="image/jpeg":http://storage.ning.com/topology/rest/1.0/
 file/get/2247954183?profile=original
ATTENDEE;ROLE=REQ-PARTICIPANT;PARTSTAT=ACCEPTED;RSVP=TRUE;CN="Block Re
 port Radio":https://trueskool.com/profile/BlockReportRadio
END:VEVENT
END:VCALENDAR
