BEGIN:VCALENDAR
PRODID:NingEventWidget-v1
VERSION:2.0
METHOD:PUBLISH
BEGIN:VTIMEZONE
TZID:America/Los_Angeles
X-LIC-LOCATION:America/Los_Angeles
BEGIN:DAYLIGHT
TZOFFSETFROM:-0800
TZOFFSETTO:-0700
TZNAME:PDT
DTSTART:19700308T020000
RRULE:FREQ=YEARLY;BYMONTH=3;BYDAY=2SU
END:DAYLIGHT
BEGIN:STANDARD
TZOFFSETFROM:-0700
TZOFFSETTO:-0800
TZNAME:PST
DTSTART:19701101T020000
RRULE:FREQ=YEARLY;BYMONTH=11;BYDAY=1SU
END:STANDARD
END:VTIMEZONE
BEGIN:VEVENT
UID:1464587:Event:32558
DTSTAMP:20260420T225006Z
SUMMARY:BLK JKS / Foreign Born
DESCRIPTION:\nBLK JKS / Foreign Born\n\n@ The Independent\n628 DIVISAD
 ERO STREET - SAN FRANCISCO, CA - 415.771.1421\nFriday, May 22nd, 2009\
 nDoors 8:30pm / Show 9:00pm\nTickets $12\nBuy tickets here\n21+\n\n\n\
 nFor more information visit https://trueskool.com/events/blk-jks-forei
 gn-born
DTSTART;TZID=America/Los_Angeles:20090522T203000
DTEND;TZID=America/Los_Angeles:20090523T000000
CATEGORIES:psychedelic, rock, dub, afro, avant, noise
LOCATION:The Independent, San Francisco, CA
WEBSITE:http://www.ticketweb.com/t3/sale/SaleEventDetail?dispatch=load
 SelectionData&eventId=1270844
URL:http://www.ticketweb.com/t3/sale/SaleEventDetail?dispatch=loadSele
 ctionData&eventId=1270844
CONTACT:
ORGANIZER:Mezzanine
ATTACH;FMTTYPE="image/jpeg":http://storage.ning.com/topology/rest/1.0/
 file/get/2068657311?profile=original
ATTENDEE;ROLE=REQ-PARTICIPANT;PARTSTAT=ACCEPTED;RSVP=TRUE;CN="Ren the 
 Vinyl Archaeologist":https://trueskool.com/profile/xh51jvilojur
END:VEVENT
END:VCALENDAR
