BEGIN:VCALENDAR
PRODID:NingEventWidget-v1
VERSION:2.0
METHOD:PUBLISH
BEGIN:VTIMEZONE
TZID:America/Los_Angeles
X-LIC-LOCATION:America/Los_Angeles
BEGIN:DAYLIGHT
TZOFFSETFROM:-0800
TZOFFSETTO:-0700
TZNAME:PDT
DTSTART:19700308T020000
RRULE:FREQ=YEARLY;BYMONTH=3;BYDAY=2SU
END:DAYLIGHT
BEGIN:STANDARD
TZOFFSETFROM:-0700
TZOFFSETTO:-0800
TZNAME:PST
DTSTART:19701101T020000
RRULE:FREQ=YEARLY;BYMONTH=11;BYDAY=1SU
END:STANDARD
END:VTIMEZONE
BEGIN:VEVENT
UID:1464587:Event:52637
DTSTAMP:20260420T132203Z
SUMMARY:Blaze UP ! Cypress Hill 4:20 after party
DESCRIPTION:http://www.inticketing.com/events/86032/BLAZE-UP-the-Cypre
 ss-hill-4-20-afterparty\n\nJUST 10 BUCKS !\n\n\nWielding the sword of 
 the marijuana community BREAL's social networking site the 420room.com
  & the always sexy Sensi Sweethearts promo team come together to bring
  you the Cypress Hill Official 4:20 After Party!\nDirectly following t
 he 4th annual CYPRESS HILL 4:20 show at The Warfield in San Fransisco 
 , Ca.\nFeaturing the ganja guru's themselves, Cypress Hill, as the Gue
 sts of Honor!\nThis year is set to be extra exciting with the release 
 of Cypress's new album RISE UP!\n\nThis party is packed with good time
 s for all\nwith an artist MEET & GREET for those wearing Green!\n\nLiv
 e performances featuring:\nthekeenone (Audio Hustlaz)\nBawake (Seattle
 )\n\nHip hop & Reggae D.J. sets from the Bay Areas finest crews featur
 ing DJ's:\nJah Yzer\nBeatnok\nSean G\nCoop D'ville\nFriday love\n\nWIT
 H MORE T.B.A.\n\nSpecial Guests:\nCypress Hill & the Audio Hustlaz fam
 ily\n\nWith so many folks in the house, YOU NEVER KNOW WHO JUST MIGHT 
 HOP ON THE MIC FOR A SURPRISE PERFORMANCE\n\nPlus TONS OF FREE GIVEWAY
 S from Weedtracker.com & the 420room.com!\n\nJOIN US & BLAZE IT UP FOR
  OUR FAVORITE HOLIDAY & THE CELEBRATION OF CYPRESS HILL'S NEW ALBUM RE
 LEASE RISE UP !!!\n\nFor more information visit https://trueskool.com/
 events/blaze-up-cypress-hill-420
DTSTART;TZID=America/Los_Angeles:20100420T220000
DTEND;TZID=America/Los_Angeles:20100421T020000
CATEGORIES:hip, hop, ".", reggae, ".after", party, cypress, hill, "4:2
 0"
LOCATION:Club Six , san fransisco
WEBSITE:http://www.420room.com   .  www.myspace.com/sensi_sweethearts 
  .  http://twitter.com/SENSISWEETHEART
URL:http://www.420room.com   .  www.myspace.com/sensi_sweethearts  .  
 http://twitter.com/SENSISWEETHEART
CONTACT:
ORGANIZER;CN=WILEYone1982:https://trueskool.com/profile/WILEYone1982
ATTACH;FMTTYPE="image/jpeg":http://storage.ning.com/topology/rest/1.0/
 file/get/2187314143?profile=original
ATTENDEE;ROLE=REQ-PARTICIPANT;PARTSTAT=ACCEPTED;RSVP=TRUE;CN=WILEYone1
 982:https://trueskool.com/profile/WILEYone1982
END:VEVENT
END:VCALENDAR
