BEGIN:VCALENDAR
PRODID:NingEventWidget-v1
VERSION:2.0
METHOD:PUBLISH
BEGIN:VTIMEZONE
TZID:America/Los_Angeles
X-LIC-LOCATION:America/Los_Angeles
BEGIN:DAYLIGHT
TZOFFSETFROM:-0800
TZOFFSETTO:-0700
TZNAME:PDT
DTSTART:19700308T020000
RRULE:FREQ=YEARLY;BYMONTH=3;BYDAY=2SU
END:DAYLIGHT
BEGIN:STANDARD
TZOFFSETFROM:-0700
TZOFFSETTO:-0800
TZNAME:PST
DTSTART:19701101T020000
RRULE:FREQ=YEARLY;BYMONTH=11;BYDAY=1SU
END:STANDARD
END:VTIMEZONE
BEGIN:VEVENT
UID:1464587:Event:65481
DTSTAMP:20260420T163141Z
SUMMARY:blasthaus presents DATA
DESCRIPTION:FRI SEP 10\nblasthaus presents\nDATA\nw/Nisus & Sleazemore
 \nRickshaw Stop / 155 Fell St / 18+ / $10 Ltd Adv\nhttp://www.blasthau
 s.com/\n\nDATA (aka David Guillion) makes a special SF appearance, off
 ering a healthy dose of disco funk into this futuristic, next-generati
 on pop, and reminding us more of Chic’s groove, the classiness of Sh
 alamar and the dance-inspired sound of Quincy Jones, than current ener
 getic techno hits with their take-no-prisoners sound. It's the second 
 wave of \"French Touch\" emerging in the wake of the Daft Punk revolut
 ion. The 24 year old French producer and DJ is riding on a huge wave o
 f momentum internationally with the release of his debut full length a
 lbum Skywriter, which infuses a few catchy pop hooks, with a disco vib
 e, a smattering of synthetic/funk tempos and some sweeping, movie melo
 dies, spiced it up with a little club music to fill the dancefloor and
  you’ve got Data’s first out and out sound surfer album. DATA cont
 inues to gain attention with his series of high profile official remix
 es for Justice, Felix The Housecat, Chromeo, M83, and La Roux, and tha
 t's just the beginning. Local support by blasthaus resident, NISUS and
  SLEAZEMORE!\n\nFor more information visit https://trueskool.com/event
 s/blasthaus-presents-data
DTSTART;TZID=America/Los_Angeles:20100910T210000
DTEND;TZID=America/Los_Angeles:20100911T020000
CATEGORIES:san, francisco
LOCATION:Rickshaw Stop
WEBSITE:http://www.blasthaus.com
URL:http://www.blasthaus.com
CONTACT:
ORGANIZER;CN=blasthaus:https://trueskool.com/profile/blasthaus
ATTACH;FMTTYPE="image/jpeg":http://storage.ning.com/topology/rest/1.0/
 file/get/2247882585?profile=original
ATTENDEE;ROLE=REQ-PARTICIPANT;PARTSTAT=ACCEPTED;RSVP=TRUE;CN=blasthaus
 :https://trueskool.com/profile/blasthaus
END:VEVENT
END:VCALENDAR
