BEGIN:VCALENDAR
PRODID:NingEventWidget-v1
VERSION:2.0
METHOD:PUBLISH
BEGIN:VTIMEZONE
TZID:America/Los_Angeles
X-LIC-LOCATION:America/Los_Angeles
BEGIN:DAYLIGHT
TZOFFSETFROM:-0800
TZOFFSETTO:-0700
TZNAME:PDT
DTSTART:19700308T020000
RRULE:FREQ=YEARLY;BYMONTH=3;BYDAY=2SU
END:DAYLIGHT
BEGIN:STANDARD
TZOFFSETFROM:-0700
TZOFFSETTO:-0800
TZNAME:PST
DTSTART:19701101T020000
RRULE:FREQ=YEARLY;BYMONTH=11;BYDAY=1SU
END:STANDARD
END:VTIMEZONE
BEGIN:VEVENT
UID:1464587:Event:50527
DTSTAMP:20260421T065650Z
SUMMARY:BLACKOUT! AT ELEMENT LOUNGE
DESCRIPTION:Here is another installment of something insane BlaQwest a
 nd Hubcap Jones are starting; \"Blackout\".\n\n\nIt is our new monthly
  where anything goes. We will touch on everything from hip hop to funk
 , soul to house. This party is set up for you to dance, drink, and be 
 debaucherous as you can be.\n\n\nWe are not, however responsible for w
 ho you go home with, if you call in sick to work the next day, or you 
 have no more money in your bank account. These things are on you.\nWe 
 are just going to have a good time, if you have too much fun....well e
 ven better. ;)\n\n\nRSVP'ed individuals get in free before 10:30pm\n\n
 \nThe Cover is $3, we start at 9\nThe more friends you bring the bette
 r the party will be.\n\n\nFor our opening party we have the bay's very
  own Gudah doing a live performance.\n\n\n\n\n\nFor more information v
 isit https://trueskool.com/events/blackout-at-element-lounge
DTSTART;TZID=America/Los_Angeles:20100401T210000
DTEND;TZID=America/Los_Angeles:20100402T140000
CATEGORIES:hip, hop, dancehall, reggae, "r&b", old, school, funk, hous
 e, electro, anything, goes
LOCATION:ELEMENT LOUNGE
WEBSITE:http://www.elementlounge.com
URL:http://www.elementlounge.com
CONTACT:415.572.1470
ORGANIZER:BlaQwest & Hubcap Jones
ATTACH;FMTTYPE="image/jpeg":http://storage.ning.com/topology/rest/1.0/
 file/get/2247874244?profile=original
ATTENDEE;ROLE=REQ-PARTICIPANT;PARTSTAT=ACCEPTED;RSVP=TRUE;CN="DJ BlaQw
 est":https://trueskool.com/profile/DJBlaQwest
END:VEVENT
END:VCALENDAR
