BEGIN:VCALENDAR
PRODID:NingEventWidget-v1
VERSION:2.0
METHOD:PUBLISH
BEGIN:VTIMEZONE
TZID:America/Los_Angeles
X-LIC-LOCATION:America/Los_Angeles
BEGIN:DAYLIGHT
TZOFFSETFROM:-0800
TZOFFSETTO:-0700
TZNAME:PDT
DTSTART:19700308T020000
RRULE:FREQ=YEARLY;BYMONTH=3;BYDAY=2SU
END:DAYLIGHT
BEGIN:STANDARD
TZOFFSETFROM:-0700
TZOFFSETTO:-0800
TZNAME:PST
DTSTART:19701101T020000
RRULE:FREQ=YEARLY;BYMONTH=11;BYDAY=1SU
END:STANDARD
END:VTIMEZONE
BEGIN:VEVENT
UID:1464587:Event:146349
DTSTAMP:20260421T164305Z
SUMMARY:BLACKALICIOUS (WIN TICKETS)
DESCRIPTION:\n FRIDAY JAN 25 BLACKALICIOUS Raw-G with live band, DJ Da
 vey D\n \nNEW PARISH 579 18th Street (at San Pablo) Oakland, CA 94612
  Doors: 8:00 pm / Show: 9:00 pm THIS EVENT IS 16 AND OVER BUY TICKETS 
 HERE $20.00\n\nFor more information visit https://trueskool.com/events
 /blackalicious-win-tickets-1
DTSTART;TZID=America/Los_Angeles:20130125T200000
DTEND;TZID=America/Los_Angeles:20130126T230000
CATEGORIES:"bay area", oakland
LOCATION:New Parish, Oakland
WEBSITE:http://www.thenewparish.com/event/185195/
URL:http://www.thenewparish.com/event/185195/
CONTACT:
ORGANIZER:New Parish
ATTACH;FMTTYPE="image/jpeg":http://storage.ning.com/topology/rest/1.0/
 file/get/2247929948?profile=original
ATTENDEE;ROLE=REQ-PARTICIPANT;PARTSTAT=ACCEPTED;RSVP=TRUE;CN="Jamie Th
 ompson":https://trueskool.com/profile/JamieThompson
ATTENDEE;ROLE=REQ-PARTICIPANT;PARTSTAT=ACCEPTED;RSVP=TRUE;CN="Or Tregg
 er":https://trueskool.com/profile/OrTregger
ATTENDEE;ROLE=REQ-PARTICIPANT;PARTSTAT=ACCEPTED;RSVP=TRUE;CN="Bernadet
 te Moreno":https://trueskool.com/profile/BernadetteMoreno
ATTENDEE;ROLE=REQ-PARTICIPANT;PARTSTAT=ACCEPTED;RSVP=TRUE;CN="Sharon B
 adillo":https://trueskool.com/profile/SharonBadillo
ATTENDEE;ROLE=REQ-PARTICIPANT;PARTSTAT=ACCEPTED;RSVP=TRUE;CN="Melia Ac
 olatse":https://trueskool.com/profile/MeliaAcolatse
ATTENDEE;ROLE=REQ-PARTICIPANT;PARTSTAT=ACCEPTED;RSVP=TRUE;CN=Ro:https:
 //trueskool.com/profile/Ro
ATTENDEE;ROLE=REQ-PARTICIPANT;PARTSTAT=ACCEPTED;RSVP=TRUE;CN="Carolina
  Quijano":https://trueskool.com/profile/CarolinaQuijano
ATTENDEE;ROLE=REQ-PARTICIPANT;PARTSTAT=ACCEPTED;RSVP=TRUE;CN="Huy Hoan
 g":https://trueskool.com/profile/HuyHoang
ATTENDEE;ROLE=REQ-PARTICIPANT;PARTSTAT=ACCEPTED;RSVP=TRUE;CN="Taurus T
 -Rex Sims":https://trueskool.com/profile/TaurusTRexSims
ATTENDEE;ROLE=REQ-PARTICIPANT;PARTSTAT=ACCEPTED;RSVP=TRUE;CN="Fresh Ma
 ftoon":https://trueskool.com/profile/FreshMaftoon
ATTENDEE;ROLE=REQ-PARTICIPANT;PARTSTAT=ACCEPTED;RSVP=TRUE;CN="egon spe
 ngler":https://trueskool.com/profile/egonspengler
ATTENDEE;ROLE=REQ-PARTICIPANT;PARTSTAT=ACCEPTED;RSVP=TRUE;CN=Marc:http
 s://trueskool.com/profile/Marc
ATTENDEE;ROLE=REQ-PARTICIPANT;PARTSTAT=ACCEPTED;RSVP=TRUE;CN="Jonathan
  Ridley":https://trueskool.com/profile/JonathanRidley
ATTENDEE;ROLE=REQ-PARTICIPANT;PARTSTAT=ACCEPTED;RSVP=TRUE;CN="Gabriel 
 Prindle":https://trueskool.com/profile/GabrielPrindle
ATTENDEE;ROLE=REQ-PARTICIPANT;PARTSTAT=ACCEPTED;RSVP=TRUE;CN="Robin Bo
 uc":https://trueskool.com/profile/Rawbone
ATTENDEE;ROLE=REQ-PARTICIPANT;PARTSTAT=ACCEPTED;RSVP=TRUE;CN="Chris Ko
 ertge":https://trueskool.com/profile/ChrisKoertge
ATTENDEE;ROLE=REQ-PARTICIPANT;PARTSTAT=ACCEPTED;RSVP=TRUE;CN=KM:https:
 //trueskool.com/profile/KM986
ATTENDEE;ROLE=REQ-PARTICIPANT;PARTSTAT=ACCEPTED;RSVP=TRUE;CN="Frank Vi
 loria":https://trueskool.com/profile/DJILLusive
ATTENDEE;ROLE=REQ-PARTICIPANT;PARTSTAT=ACCEPTED;RSVP=TRUE;CN="Cynthia 
 Tsai":https://trueskool.com/profile/CynthiaTsai
ATTENDEE;ROLE=REQ-PARTICIPANT;PARTSTAT=ACCEPTED;RSVP=TRUE;CN="Tali Ben
 attar":https://trueskool.com/profile/TaliBenattar550
ATTENDEE;ROLE=REQ-PARTICIPANT;PARTSTAT=ACCEPTED;RSVP=TRUE;CN="Virgo Ce
 llars":https://trueskool.com/profile/VirgoCellars
ATTENDEE;ROLE=REQ-PARTICIPANT;PARTSTAT=ACCEPTED;RSVP=TRUE;CN="Stefanie
  Jackson":https://trueskool.com/profile/StefanieJackson
ATTENDEE;ROLE=REQ-PARTICIPANT;PARTSTAT=ACCEPTED;RSVP=TRUE;CN="Alison B
 arros":https://trueskool.com/profile/AlisonBarros
ATTENDEE;ROLE=REQ-PARTICIPANT;PARTSTAT=ACCEPTED;RSVP=TRUE;CN="Earl Ber
 g":https://trueskool.com/profile/EarlBerg
ATTENDEE;ROLE=REQ-PARTICIPANT;PARTSTAT=ACCEPTED;RSVP=TRUE;CN="Amanda R
 ybarczyk":https://trueskool.com/profile/AmandaRybarczyk
ATTENDEE;ROLE=REQ-PARTICIPANT;PARTSTAT=ACCEPTED;RSVP=TRUE;CN="Melly Me
 l":https://trueskool.com/profile/MellyMel
ATTENDEE;ROLE=REQ-PARTICIPANT;PARTSTAT=ACCEPTED;RSVP=TRUE;CN="aambr ne
 wsome":https://trueskool.com/profile/aambrnewsome
ATTENDEE;ROLE=REQ-PARTICIPANT;PARTSTAT=ACCEPTED;RSVP=TRUE;CN="Setie As
 faha":https://trueskool.com/profile/SetieAsfaha94
ATTENDEE;ROLE=REQ-PARTICIPANT;PARTSTAT=ACCEPTED;RSVP=TRUE;CN="Hillary 
 Harris":https://trueskool.com/profile/HillaryHarris
ATTENDEE;ROLE=REQ-PARTICIPANT;PARTSTAT=ACCEPTED;RSVP=TRUE;CN="Nina bar
 i":https://trueskool.com/profile/Ninabari
ATTENDEE;ROLE=REQ-PARTICIPANT;PARTSTAT=ACCEPTED;RSVP=TRUE;CN="Chaya Be
 ll-Gumaer":https://trueskool.com/profile/ChayaBellGumaer
ATTENDEE;ROLE=REQ-PARTICIPANT;PARTSTAT=ACCEPTED;RSVP=TRUE;CN="Ren the 
 Vinyl Archaeologist":https://trueskool.com/profile/xh51jvilojur
END:VEVENT
END:VCALENDAR
