BEGIN:VCALENDAR
PRODID:NingEventWidget-v1
VERSION:2.0
METHOD:PUBLISH
BEGIN:VTIMEZONE
TZID:America/Los_Angeles
X-LIC-LOCATION:America/Los_Angeles
BEGIN:DAYLIGHT
TZOFFSETFROM:-0800
TZOFFSETTO:-0700
TZNAME:PDT
DTSTART:19700308T020000
RRULE:FREQ=YEARLY;BYMONTH=3;BYDAY=2SU
END:DAYLIGHT
BEGIN:STANDARD
TZOFFSETFROM:-0700
TZOFFSETTO:-0800
TZNAME:PST
DTSTART:19701101T020000
RRULE:FREQ=YEARLY;BYMONTH=11;BYDAY=1SU
END:STANDARD
END:VTIMEZONE
BEGIN:VEVENT
UID:1464587:Event:283084
DTSTAMP:20260421T035419Z
SUMMARY:POSTPONED: Blackalicious + Jahi & the Life + Antique Naked Sou
 l - Sun. 12/29 at Slim's - SF
DESCRIPTION:***We are sorry to announce this show has been postponed. 
 Please stay tuned as a new date will be announced soon!***\n\nIt's one
  thing to make enduring records, another still to work with luminaries
  in multiple fields. Another thing still to treat the rhyme not only a
 s a piece of poetry, but to play with the aesthetics of language in wa
 ys that represent the voice as a unique instrument in and of itself. B
 lackalicious do all of these things, and as evidenced by the reissue o
 f 1993's Melodica, they have been doing these things for years.  Origi
 nally released exclusively on cassette, Melodica is being reissued dig
 itally for the first time. It's a vital document of the group's progre
 ssion towards their eventual position as lords of the West Coast Under
 ground, Gift of Gab twisting his words with aplomb, his lyrics more ca
 refree than his later work. Chief Xcel's beats, meanwhile, tread the s
 ame funky, lighthearted waters as many of his left-field contemporarie
 s, but everything on Melodica is coated in a murky scuzz that, somewha
 t conversely to logic, could place the EP alongside much of today's we
 ird, lo-fi hip-hop. As an added treat, Melodica contains 'Changes,' an
  unreleased cut produced in part by one DJ Shadow, who joins forces wi
 th Blackalicious producer Chief Xcel to offer dusty drum loops and sub
 tle, textured samples that would offer a glimpse into much of Shadow's
  later work. In an era where hip hop devolves into half-baked facsimil
 e with alarming regularity, Melodica serves as a reminder that the tru
 e school will always triumph over the bullshit.\n\nFor more informatio
 n visit https://trueskool.com/events/blackalicious-jahi-the-life-antiq
 ue-naked-soul-sun-12-29-at-slim
DTSTART;TZID=America/Los_Angeles:20131229T210000
DTEND;TZID=America/Los_Angeles:20131230T000000
CATEGORIES:san, francisco, bay, area, sf
LOCATION:Slim's, San Francisco, California
WEBSITE:http://www.slimspresents.com
URL:http://www.slimspresents.com
CONTACT:(415) 255-0333
ORGANIZER;CN=Tracey:https://trueskool.com/profile/Tracey
ATTACH;FMTTYPE="image/jpeg":http://storage.ning.com/topology/rest/1.0/
 file/get/2247955255?profile=original
ATTENDEE;ROLE=REQ-PARTICIPANT;PARTSTAT=ACCEPTED;RSVP=TRUE;CN=Tracey:ht
 tps://trueskool.com/profile/Tracey
ATTENDEE;ROLE=REQ-PARTICIPANT;PARTSTAT=ACCEPTED;RSVP=TRUE;CN="Tina Byr
 ne":https://trueskool.com/profile/TinaByrne
END:VEVENT
END:VCALENDAR
