BEGIN:VCALENDAR
PRODID:NingEventWidget-v1
VERSION:2.0
METHOD:PUBLISH
BEGIN:VTIMEZONE
TZID:America/Los_Angeles
X-LIC-LOCATION:America/Los_Angeles
BEGIN:DAYLIGHT
TZOFFSETFROM:-0800
TZOFFSETTO:-0700
TZNAME:PDT
DTSTART:19700308T020000
RRULE:FREQ=YEARLY;BYMONTH=3;BYDAY=2SU
END:DAYLIGHT
BEGIN:STANDARD
TZOFFSETFROM:-0700
TZOFFSETTO:-0800
TZNAME:PST
DTSTART:19701101T020000
RRULE:FREQ=YEARLY;BYMONTH=11;BYDAY=1SU
END:STANDARD
END:VTIMEZONE
BEGIN:VEVENT
UID:1464587:Event:310522
DTSTAMP:20260421T023539Z
SUMMARY:Blackalicious (WIN TICKETS)
DESCRIPTION:\n\nFRIDAY FEB 14 BLACKALICIOUS\nBlackalicious performing 
 their  classics and new music from their highly anticipated album ent
 itled \"Imani\" coming June 2014.  Spread Love on Valentine's Day Sli
 m's with BLACKALICIOUS.\nand special guests -\nLIFESAVAS (Quannum) \
 nJAZZ MAFIA \nMYRON (Myron & E-Stones Throw) \nKWEEN\n\n \nSLIMS, 
 333 11th Street, San Francisco, Ca\nDoors 8 PM . Showtime 9 PM\nA
 ll ages\n>> BUY TICKETS\n\n\nFor more information visit https://truesk
 ool.com/events/blackalicious-2
DTSTART;TZID=America/Los_Angeles:20140214T210000
DTEND;TZID=America/Los_Angeles:20140214T230000
CATEGORIES:"bay area", "san francisco", "oakland\""
LOCATION:Slim's, San Francisco
WEBSITE:http://tickets.slims-sf.com/evinfo.php?eventid=364809
URL:http://tickets.slims-sf.com/evinfo.php?eventid=364809
CONTACT:
ORGANIZER;CN="Editor's Pick":https://trueskool.com/profile/RentheVinyl
 Archaeologist
ATTACH;FMTTYPE="image/jpeg":http://storage.ning.com/topology/rest/1.0/
 file/get/2247956699?profile=original
ATTENDEE;ROLE=REQ-PARTICIPANT;PARTSTAT=ACCEPTED;RSVP=TRUE;CN="Robin Bo
 uc":https://trueskool.com/profile/Rawbone
ATTENDEE;ROLE=REQ-PARTICIPANT;PARTSTAT=ACCEPTED;RSVP=TRUE;CN=jMaX:http
 s://trueskool.com/profile/jMaX
ATTENDEE;ROLE=REQ-PARTICIPANT;PARTSTAT=ACCEPTED;RSVP=TRUE;CN=odis26:ht
 tps://trueskool.com/profile/odis26
ATTENDEE;ROLE=REQ-PARTICIPANT;PARTSTAT=ACCEPTED;RSVP=TRUE;CN=J:https:/
 /trueskool.com/profile/J321
ATTENDEE;ROLE=REQ-PARTICIPANT;PARTSTAT=ACCEPTED;RSVP=TRUE;CN="Editor's
  Pick":https://trueskool.com/profile/RentheVinylArchaeologist
ATTENDEE;ROLE=REQ-PARTICIPANT;PARTSTAT=ACCEPTED;RSVP=TRUE;CN=Frost:htt
 ps://trueskool.com/profile/Frost
ATTENDEE;ROLE=REQ-PARTICIPANT;PARTSTAT=TENTATIVE;RSVP=TRUE;CN="Gideon 
 Rector":https://trueskool.com/profile/GideonRector
ATTENDEE;ROLE=REQ-PARTICIPANT;PARTSTAT=TENTATIVE;RSVP=TRUE;CN="Qumber 
 Jafri":https://trueskool.com/profile/QumberJafri
END:VEVENT
END:VCALENDAR
