BEGIN:VCALENDAR
PRODID:NingEventWidget-v1
VERSION:2.0
METHOD:PUBLISH
BEGIN:VTIMEZONE
TZID:America/Los_Angeles
X-LIC-LOCATION:America/Los_Angeles
BEGIN:DAYLIGHT
TZOFFSETFROM:-0800
TZOFFSETTO:-0700
TZNAME:PDT
DTSTART:19700308T020000
RRULE:FREQ=YEARLY;BYMONTH=3;BYDAY=2SU
END:DAYLIGHT
BEGIN:STANDARD
TZOFFSETFROM:-0700
TZOFFSETTO:-0800
TZNAME:PST
DTSTART:19701101T020000
RRULE:FREQ=YEARLY;BYMONTH=11;BYDAY=1SU
END:STANDARD
END:VTIMEZONE
BEGIN:VEVENT
UID:1464587:Event:832241
DTSTAMP:20260423T222346Z
SUMMARY:Black Violin
DESCRIPTION:\r\nSunday, October 13, 2024\r\nBV20: Then & Now\r\nBlack 
 Violin\r\nFox Theater\r\nOakland, CA\r\nDoors: 6:30pm | Show: 7:30pm\r
 \n>> BUY TICKETS\r\n\r\n\r\n\n\nFor more information visit https://tru
 eskool.com/events/black-violin
DTSTART;TZID=America/Los_Angeles:20241013T183000
DTEND;TZID=America/Los_Angeles:20241013T230000
CATEGORIES:"bay area", oakland
LOCATION:Fox Theater, Oakland
WEBSITE:https://www.ticketmaster.com/event/1C0060A8A9E64B19?camefrom=C
 FC_ANOTHERPLANET_promo&amp;brand=anotherplanet
URL:https://www.ticketmaster.com/event/1C0060A8A9E64B19?camefrom=CFC_A
 NOTHERPLANET_promo&amp;brand=anotherplanet
CONTACT:
ORGANIZER:Another Planet Entertainment
ATTACH;FMTTYPE="image/jpeg":https://storage.ning.com/topology/rest/1.0
 /file/get/12967296060?profile=original
ATTENDEE;ROLE=REQ-PARTICIPANT;PARTSTAT=ACCEPTED;RSVP=TRUE;CN="Editor's
  Pick":https://trueskool.com/profile/RentheVinylArchaeologist
END:VEVENT
END:VCALENDAR
