BEGIN:VCALENDAR
PRODID:NingEventWidget-v1
VERSION:2.0
METHOD:PUBLISH
BEGIN:VTIMEZONE
TZID:America/Los_Angeles
X-LIC-LOCATION:America/Los_Angeles
BEGIN:DAYLIGHT
TZOFFSETFROM:-0800
TZOFFSETTO:-0700
TZNAME:PDT
DTSTART:19700308T020000
RRULE:FREQ=YEARLY;BYMONTH=3;BYDAY=2SU
END:DAYLIGHT
BEGIN:STANDARD
TZOFFSETFROM:-0700
TZOFFSETTO:-0800
TZNAME:PST
DTSTART:19701101T020000
RRULE:FREQ=YEARLY;BYMONTH=11;BYDAY=1SU
END:STANDARD
END:VTIMEZONE
BEGIN:VEVENT
UID:1464587:Event:297552
DTSTAMP:20260420T232029Z
SUMMARY:Black Uhuru and Indubious Feb 7th at Ashkenaz in Berkeley
DESCRIPTION:Tickets $20 advance / $25 day of show. Ashkenaz is always 
 all ages! www.ashkenaz.com  Black Uhuru is one of the most recognized 
 and prolific reggae bands of the last 50 years, with legends Don Carlo
 s, Junior Reid, and Michael Rose among its past members. The current B
 lack Uhuru features founder Derrick \"Duckie\" Simpson.  www.therealbl
 ackuhuru.com  Rising up from southern Oregon’s Rogue Valley, Indubio
 us mixes reggae, dance hall, and new roots reggae with visionary lyric
 al messages, up to three-part vocal harmonies and funky-heavy jams. Th
 e tight trio is keyboardist-singer Evan “Evton B” Burton, his sing
 er-bassist brother Spencer “Skip Wicked” Burton, and drummer Matth
 ew T. Wells.  www.indubiousmusic.com\n\nFor more information visit htt
 ps://trueskool.com/events/black-uhuru-and-indubious-feb-7th-at-ashkena
 z-in-berkeley
DTSTART;TZID=America/Los_Angeles:20140115T180000
DTEND;TZID=America/Los_Angeles:20140115T190000
CATEGORIES:"bay area", berkeley, oakland, reggae, "roots reggae", danc
 e, "san fransisco"
LOCATION:Ashkenaz, Berkeley CA
WEBSITE:http://www.ashkenaz.com
URL:http://www.ashkenaz.com
CONTACT:
ORGANIZER;CN="Mary Stone":https://trueskool.com/profile/MaryStone
ATTACH;FMTTYPE="image/jpeg":http://storage.ning.com/topology/rest/1.0/
 file/get/2247955528?profile=original
ATTENDEE;ROLE=REQ-PARTICIPANT;PARTSTAT=ACCEPTED;RSVP=TRUE;CN="Mary Sto
 ne":https://trueskool.com/profile/MaryStone
END:VEVENT
END:VCALENDAR
