BEGIN:VCALENDAR
PRODID:NingEventWidget-v1
VERSION:2.0
METHOD:PUBLISH
BEGIN:VTIMEZONE
TZID:America/Los_Angeles
X-LIC-LOCATION:America/Los_Angeles
BEGIN:DAYLIGHT
TZOFFSETFROM:-0800
TZOFFSETTO:-0700
TZNAME:PDT
DTSTART:19700308T020000
RRULE:FREQ=YEARLY;BYMONTH=3;BYDAY=2SU
END:DAYLIGHT
BEGIN:STANDARD
TZOFFSETFROM:-0700
TZOFFSETTO:-0800
TZNAME:PST
DTSTART:19701101T020000
RRULE:FREQ=YEARLY;BYMONTH=11;BYDAY=1SU
END:STANDARD
END:VTIMEZONE
BEGIN:VEVENT
UID:1464587:Event:666218
DTSTAMP:20260421T094450Z
SUMMARY:BLACK UHURU
DESCRIPTION:BLACK UHURU\r\nLior Ben-Hur & Sol TevélOnestyDJ Sep (Dub 
 Mission)\r\nThe IndependentSan Francisco, CAWednesday, September 13, 2
 017Show: 9:00pm\r\nThis event is 21 and over.\r\n$25.00 – General Ad
 mission\n\nFor more information visit https://trueskool.com/events/bla
 ck-uhuru-4
DTSTART;TZID=America/Los_Angeles:20170913T210000
DTEND;TZID=America/Los_Angeles:20170913T230000
CATEGORIES:"san francisco", oakland, berkley, "san jose", "bay area"
LOCATION:The Independent, SF
WEBSITE:https://www.ticketfly.com/purchase/event/1531047?camefrom=CFC_
 ANOTHERPLANET_web&amp;brand=anotherplanet&amp;q=96d26d18-fb06-4592-9bc
 6-6f8947505ea3&amp;p=d9897dc9-929a-4912-997f-4e9fee90c7cd&amp;ts=15028
 96199&amp;c=ticketfly&amp;e=0010c&amp;rt=Safetynet&amp;h=daecddee30310
 ef2534ad6dbce6fb00b
URL:https://www.ticketfly.com/purchase/event/1531047?camefrom=CFC_ANOT
 HERPLANET_web&amp;brand=anotherplanet&amp;q=96d26d18-fb06-4592-9bc6-6f
 8947505ea3&amp;p=d9897dc9-929a-4912-997f-4e9fee90c7cd&amp;ts=150289619
 9&amp;c=ticketfly&amp;e=0010c&amp;rt=Safetynet&amp;h=daecddee30310ef25
 34ad6dbce6fb00b
CONTACT:
ORGANIZER;CN="Editor's Pick":https://trueskool.com/profile/RentheVinyl
 Archaeologist
ATTACH;FMTTYPE="image/jpeg":http://storage.ning.com/topology/rest/1.0/
 file/get/2248000391?profile=original
ATTENDEE;ROLE=REQ-PARTICIPANT;PARTSTAT=ACCEPTED;RSVP=TRUE;CN="Editor's
  Pick":https://trueskool.com/profile/RentheVinylArchaeologist
END:VEVENT
END:VCALENDAR
