BEGIN:VCALENDAR
PRODID:NingEventWidget-v1
VERSION:2.0
METHOD:PUBLISH
BEGIN:VTIMEZONE
TZID:America/Los_Angeles
X-LIC-LOCATION:America/Los_Angeles
BEGIN:DAYLIGHT
TZOFFSETFROM:-0800
TZOFFSETTO:-0700
TZNAME:PDT
DTSTART:19700308T020000
RRULE:FREQ=YEARLY;BYMONTH=3;BYDAY=2SU
END:DAYLIGHT
BEGIN:STANDARD
TZOFFSETFROM:-0700
TZOFFSETTO:-0800
TZNAME:PST
DTSTART:19701101T020000
RRULE:FREQ=YEARLY;BYMONTH=11;BYDAY=1SU
END:STANDARD
END:VTIMEZONE
BEGIN:VEVENT
UID:1464587:Event:59943
DTSTAMP:20260420T230257Z
SUMMARY:Black Star featuring Mos Def & Talib Kweli
DESCRIPTION:CLICK HERE TO WIN A PAIR OF TICKETS:\nhttp://www.trueskool
 .com/group/wintickets\n\n\nSATURDAY, JULY 31\nAnother Planet Ent. pres
 ents\nBlack Star featuring Mos Def & Talib Kweli\n\nwith Zion I\n\n@ F
 ox Theater, 1807 Telegraph Ave., Oakland\nALL AGES. Show 8pm. Tix $41.
 50\nBuy Tickets\n\nArticulate and provocative, Black Star looks to cla
 ssic rappers like KRS-One, Run D.M.C. and Public Enemy to inform their
  sound. Their self-titled debut grapples with \"black love and esteem\
 " and is concerned primarily about the stories that aren't being told 
 in their communities. They are one of the few hip-hop bands that reali
 ze not everyone in the African-American community is involved in a gan
 gsta culture. That fact alone makes them some of the most intelligent 
 rappers to grace the vapid hip-hop scene in the late '90s.\n\nFor more
  information visit https://trueskool.com/events/black-star-featuring-m
 os-def
DTSTART;TZID=America/Los_Angeles:20100731T200000
DTEND;TZID=America/Los_Angeles:20100801T230000
CATEGORIES:"18+", hip, hop
LOCATION:Fox Theater
WEBSITE:http://www.ticketmaster.com/event/1C0044D2CE8671F9?artistid=80
 0796&majorcatid=10001&minorcatid=3
URL:http://www.ticketmaster.com/event/1C0044D2CE8671F9?artistid=800796
 &majorcatid=10001&minorcatid=3
CONTACT:
ORGANIZER;CN="Editor's Pick":https://trueskool.com/profile/RentheVinyl
 Archaeologist
ATTACH;FMTTYPE="image/jpeg":http://storage.ning.com/topology/rest/1.0/
 file/get/2247881315?profile=original
ATTENDEE;ROLE=REQ-PARTICIPANT;PARTSTAT=ACCEPTED;RSVP=TRUE;CN="Editor's
  Pick":https://trueskool.com/profile/RentheVinylArchaeologist
ATTENDEE;ROLE=REQ-PARTICIPANT;PARTSTAT=ACCEPTED;RSVP=TRUE;CN="caramel 
 queen":https://trueskool.com/profile/caramelqueen
ATTENDEE;ROLE=REQ-PARTICIPANT;PARTSTAT=ACCEPTED;RSVP=TRUE;CN="Skinny J
 akins":https://trueskool.com/profile/SalvatoreGermano
END:VEVENT
END:VCALENDAR
