BEGIN:VCALENDAR
PRODID:NingEventWidget-v1
VERSION:2.0
METHOD:PUBLISH
BEGIN:VTIMEZONE
TZID:America/Los_Angeles
X-LIC-LOCATION:America/Los_Angeles
BEGIN:DAYLIGHT
TZOFFSETFROM:-0800
TZOFFSETTO:-0700
TZNAME:PDT
DTSTART:19700308T020000
RRULE:FREQ=YEARLY;BYMONTH=3;BYDAY=2SU
END:DAYLIGHT
BEGIN:STANDARD
TZOFFSETFROM:-0700
TZOFFSETTO:-0800
TZNAME:PST
DTSTART:19701101T020000
RRULE:FREQ=YEARLY;BYMONTH=11;BYDAY=1SU
END:STANDARD
END:VTIMEZONE
BEGIN:VEVENT
UID:1464587:Event:666214
DTSTAMP:20260421T111914Z
SUMMARY:BLACK STAR (WIN TICKETS)
DESCRIPTION:ENTER TO WIN A PAIR OF TICKETS. WINNER WILL BE DRAWN RANDO
 MLY AND ANNOUNCED 2 DAYS PRIOR TO EVENT.\r\n\r\n\r\n\r\nWednesday, Sep
 tember 13, 2017\r\nBLACK STAR FEATURING \r\n  YASIIN BEY AND TALIB KWE
 LI\r\n\r\nFox Theater\r\n Oakland, CA\r\n Show: 8:00pm\r\n\r\n\r\n\n\n
 For more information visit https://trueskool.com/events/black-star-1
DTSTART;TZID=America/Los_Angeles:20170913T200000
DTEND;TZID=America/Los_Angeles:20170913T230000
CATEGORIES:"san francisco", oakland, berkley, "san jose", "bay area"
LOCATION:Fox Theater, Oakland
WEBSITE:http://www.ticketmaster.com/event/1C00530CF06F90AA?camefrom=CF
 C_ANOTHERPLANET_web&amp;amp;brand=anotherplanet
URL:http://www.ticketmaster.com/event/1C00530CF06F90AA?camefrom=CFC_AN
 OTHERPLANET_web&amp;amp;brand=anotherplanet
CONTACT:
ORGANIZER:Another Planet Ent
ATTACH;FMTTYPE="image/jpeg":http://storage.ning.com/topology/rest/1.0/
 file/get/4204721127?profile=original
ATTENDEE;ROLE=REQ-PARTICIPANT;PARTSTAT=ACCEPTED;RSVP=TRUE;CN="Donte Ha
 rrison":https://trueskool.com/profile/DonteHarrison
ATTENDEE;ROLE=REQ-PARTICIPANT;PARTSTAT=ACCEPTED;RSVP=TRUE;CN="Editor's
  Pick":https://trueskool.com/profile/RentheVinylArchaeologist
ATTENDEE;ROLE=REQ-PARTICIPANT;PARTSTAT=TENTATIVE;RSVP=TRUE;CN="Mark Sa
 saki-Prather":https://trueskool.com/profile/MarkSasakiPrather
END:VEVENT
END:VCALENDAR
