BEGIN:VCALENDAR
PRODID:NingEventWidget-v1
VERSION:2.0
METHOD:PUBLISH
BEGIN:VTIMEZONE
TZID:America/Los_Angeles
X-LIC-LOCATION:America/Los_Angeles
BEGIN:DAYLIGHT
TZOFFSETFROM:-0800
TZOFFSETTO:-0700
TZNAME:PDT
DTSTART:19700308T020000
RRULE:FREQ=YEARLY;BYMONTH=3;BYDAY=2SU
END:DAYLIGHT
BEGIN:STANDARD
TZOFFSETFROM:-0700
TZOFFSETTO:-0800
TZNAME:PST
DTSTART:19701101T020000
RRULE:FREQ=YEARLY;BYMONTH=11;BYDAY=1SU
END:STANDARD
END:VTIMEZONE
BEGIN:VEVENT
UID:1464587:Event:32166
DTSTAMP:20260420T180745Z
SUMMARY:Black Rock Dub
DESCRIPTION:BLACK ROCK DUB\n\nA 2 room event featuring DUBSTEP GLITCH 
 AND LAZERBASS\n\nDJS FOR THE NIGHT:\n\nin the basement:\n\nNO THING of
  BABYLON SYSTEM (redline sf)\n\nvs\n\nULTRAVIOLET (redline/makeout ses
 sions)\n\nZOMBIE J (mallabel music)\n\nBLACKHEART (redline sf)\n\nEL D
 IABLO (mallabel music)\n\nANIMALITY (primitive science, anotha level)\
 n\nHEDLOK\n\nINQUELL\n\non the mic\n\n\n\n\nMC NUKZ (primitive science
 , anotha-level)\n\n\nupstairs:\n\nKOZEE (redline, badman press recordi
 ngs)\n\n\nMYCHO PAN COCOA (mallabel music)\n\nSKULLTRANE (mallabel mus
 ic)\n\nINQUELL\n\n*live painting by local bay area artists\n\n*visuals
  by: iamlightweaver\n\n*special guests and surprises!\n\n$7 & 21+\n\n9
 pm to 3am\n\n@ Club 6\n\n60 60th Street, SF\n\nFor more information vi
 sit https://trueskool.com/events/black-rock-dub
DTSTART;TZID=America/Los_Angeles:20090523T210000
DTEND;TZID=America/Los_Angeles:20090524T190000
CATEGORIES:dubstep, glitch, lazerbass
LOCATION:Club Six, San Francisco, CA
WEBSITE:http://www.clubsix1.com
URL:http://www.clubsix1.com
CONTACT:415-531-6593
ORGANIZER:Angel
ATTACH;FMTTYPE="image/jpeg":http://storage.ning.com/topology/rest/1.0/
 file/get/2247856677?profile=original
ATTENDEE;ROLE=REQ-PARTICIPANT;PARTSTAT=ACCEPTED;RSVP=TRUE;CN=Cecily:ht
 tps://trueskool.com/profile/Cecily
END:VEVENT
END:VCALENDAR
