BEGIN:VCALENDAR
PRODID:NingEventWidget-v1
VERSION:2.0
METHOD:PUBLISH
BEGIN:VTIMEZONE
TZID:America/Los_Angeles
X-LIC-LOCATION:America/Los_Angeles
BEGIN:DAYLIGHT
TZOFFSETFROM:-0800
TZOFFSETTO:-0700
TZNAME:PDT
DTSTART:19700308T020000
RRULE:FREQ=YEARLY;BYMONTH=3;BYDAY=2SU
END:DAYLIGHT
BEGIN:STANDARD
TZOFFSETFROM:-0700
TZOFFSETTO:-0800
TZNAME:PST
DTSTART:19701101T020000
RRULE:FREQ=YEARLY;BYMONTH=11;BYDAY=1SU
END:STANDARD
END:VTIMEZONE
BEGIN:VEVENT
UID:1464587:Event:656616
DTSTAMP:20260422T153722Z
SUMMARY:Black Power Mixtape Vol. 2 feat. JAHI of PE 2.0, Martin Luther
 , Nu Dekades, Do.DAT, Zumbi of Zion I, Alia Sharrief & Ras Ceylon, DJ 
 Davey D....
DESCRIPTION: THURSDAY, DEC 15 Black Power Mixtape Vol. 2 - SF Edition\
 nFeaturing  JAHI of PE 2.0, Martin Luther, Nu Dekades, Karen Less, Do.
 DAT, Zumbi of Zion I, Kingmakers of Oakland, V.I.B.E., Alia Sharrief &
  Ras Ceylon, DJ Intune & DJ Davey D, Candice Antique\n@ Slim's, San Fr
 ancisco doors 7:30pm/show 8pm Tickets are $13 advance/$15 door >> BUY 
 TICKETS\n\n\nFor more information visit https://trueskool.com/events/b
 lack-power-mixtape-vol-2-feat-jahi-of-pe-2-0-martin-luther-nu-de
DTSTART;TZID=America/Los_Angeles:20161215T193000
DTEND;TZID=America/Los_Angeles:20161215T230000
CATEGORIES:"bay area", "san francisco"
LOCATION:Slim's, San Francisco
WEBSITE:http://bit.ly/2hhrzGd
URL:http://bit.ly/2hhrzGd
CONTACT:
ORGANIZER:Slim's
ATTACH;FMTTYPE="image/jpeg":http://storage.ning.com/topology/rest/1.0/
 file/get/2247992956?profile=original
ATTENDEE;ROLE=REQ-PARTICIPANT;PARTSTAT=ACCEPTED;RSVP=TRUE;CN="Editor's
  Pick":https://trueskool.com/profile/RentheVinylArchaeologist
END:VEVENT
END:VCALENDAR
