BEGIN:VCALENDAR
PRODID:NingEventWidget-v1
VERSION:2.0
METHOD:PUBLISH
BEGIN:VTIMEZONE
TZID:America/Los_Angeles
X-LIC-LOCATION:America/Los_Angeles
BEGIN:DAYLIGHT
TZOFFSETFROM:-0800
TZOFFSETTO:-0700
TZNAME:PDT
DTSTART:19700308T020000
RRULE:FREQ=YEARLY;BYMONTH=3;BYDAY=2SU
END:DAYLIGHT
BEGIN:STANDARD
TZOFFSETFROM:-0700
TZOFFSETTO:-0800
TZNAME:PST
DTSTART:19701101T020000
RRULE:FREQ=YEARLY;BYMONTH=11;BYDAY=1SU
END:STANDARD
END:VTIMEZONE
BEGIN:VEVENT
UID:1464587:Event:280743
DTSTAMP:20260421T010434Z
SUMMARY:Black Market SF III Presented By \"M\" as in Market
DESCRIPTION:Black Market SFpresented by\"M\" as in Market\n12.21.137PM
 -MIDNIGHT21+\nBlack Market SF is a gathering ofthe city's best craft 
 + food artisansunder an intimate evening setting.This holiday edition
  presented by \"M\" as in Market,blends local craft + food artisan
 sdeejays + live local talent // Gabi Holzwarth + The JurassiCphoto
 booth // SnappeaSFcharity + cause // Toys for Tots + Typhoon Haiyan 
 ReliefFirst 50 tickets FREE // $5 presales after // $8 at the doorU
 gly sweaters encouraged, open mind required.\nwww.blackmarketsf.com\n
 \n\"M\" as in Marketprimarily a Marketinspired by Musicmotivated by M
 ovement\n \n\nFor more information visit https://trueskool.com/events
 /black-market-sf-iii-presented-by-m-as-in-market
DTSTART;TZID=America/Los_Angeles:20131221T190000
DTEND;TZID=America/Los_Angeles:20131222T000000
CATEGORIES:"san francisco", "night market", "bay area", sf, music, jaz
 z, funk, violinist, charity, cause, market, shopping, craft, food, mov
 ement, holiday
LOCATION:Venue disclosed after RSVP
WEBSITE:http://www.blackmarketsf.com
URL:http://www.blackmarketsf.com
CONTACT:
ORGANIZER:\"M\" as in Market
ATTACH;FMTTYPE="image/jpeg":http://storage.ning.com/topology/rest/1.0/
 file/get/2247956844?profile=original
ATTENDEE;ROLE=REQ-PARTICIPANT;PARTSTAT=ACCEPTED;RSVP=TRUE;CN="Tina Byr
 ne":https://trueskool.com/profile/TinaByrne
ATTENDEE;ROLE=REQ-PARTICIPANT;PARTSTAT=ACCEPTED;RSVP=TRUE;CN="Jenn Lui
 ":https://trueskool.com/profile/JennLui405
END:VEVENT
END:VCALENDAR
