BEGIN:VCALENDAR
PRODID:NingEventWidget-v1
VERSION:2.0
METHOD:PUBLISH
BEGIN:VTIMEZONE
TZID:America/Los_Angeles
X-LIC-LOCATION:America/Los_Angeles
BEGIN:DAYLIGHT
TZOFFSETFROM:-0800
TZOFFSETTO:-0700
TZNAME:PDT
DTSTART:19700308T020000
RRULE:FREQ=YEARLY;BYMONTH=3;BYDAY=2SU
END:DAYLIGHT
BEGIN:STANDARD
TZOFFSETFROM:-0700
TZOFFSETTO:-0800
TZNAME:PST
DTSTART:19701101T020000
RRULE:FREQ=YEARLY;BYMONTH=11;BYDAY=1SU
END:STANDARD
END:VTIMEZONE
BEGIN:VEVENT
UID:1464587:Event:46720
DTSTAMP:20260421T020332Z
SUMMARY:Black Eyed Peas, LMFAO
DESCRIPTION:\nThe E.N.D. World Tour\nBlack Eyed Peas\nLMFAO\n\nHP Pavi
 lion\n525 W. Santa Clara St\nSan Jose CA 95113\nshow 7:30PM\nBuy Ticke
 ts\n\n\nFor more information visit https://trueskool.com/events/black-
 eyed-peas-lmfao
DTSTART;TZID=America/Los_Angeles:20100402T193000
DTEND;TZID=America/Los_Angeles:20100402T230000
CATEGORIES:hip, hop, electro
LOCATION:HP Pavilion, San Jose, CA
WEBSITE:http://www.apeconcerts.com/popArtist07.cfm?cID=2343
URL:http://www.apeconcerts.com/popArtist07.cfm?cID=2343
CONTACT:
ORGANIZER:Another Planet Ent.
ATTACH;FMTTYPE="image/jpeg":http://storage.ning.com/topology/rest/1.0/
 file/get/2247875971?profile=original
ATTENDEE;ROLE=REQ-PARTICIPANT;PARTSTAT=ACCEPTED;RSVP=TRUE;CN="Ren the 
 Vinyl Archaeologist":https://trueskool.com/profile/xh51jvilojur
END:VEVENT
END:VCALENDAR
