BEGIN:VCALENDAR
PRODID:NingEventWidget-v1
VERSION:2.0
METHOD:PUBLISH
BEGIN:VTIMEZONE
TZID:America/Los_Angeles
X-LIC-LOCATION:America/Los_Angeles
BEGIN:DAYLIGHT
TZOFFSETFROM:-0800
TZOFFSETTO:-0700
TZNAME:PDT
DTSTART:19700308T020000
RRULE:FREQ=YEARLY;BYMONTH=3;BYDAY=2SU
END:DAYLIGHT
BEGIN:STANDARD
TZOFFSETFROM:-0700
TZOFFSETTO:-0800
TZNAME:PST
DTSTART:19701101T020000
RRULE:FREQ=YEARLY;BYMONTH=11;BYDAY=1SU
END:STANDARD
END:VTIMEZONE
BEGIN:VEVENT
UID:1464587:Event:633653
DTSTAMP:20260421T095535Z
SUMMARY:Return of the Cypher feat. S.O.S. Collective (Nu Dekades, Anje
 l Diaz, Abiola MusicMan) with The Gemstone Band • DJ Kevvy Kev
DESCRIPTION:RSVP on FB\n\nThis Sunday! The State Of Soul Collective - 
 which combines Nu Dekades (K.E.V. x RyanNicole) of Oakland with Anje
 l Diaz and Abiola MusicMan for a powerful manifestation of Hip Hop mus
 ic for the soul. Featuring the triumphant return of The Gemstone Band
 .\n \nhttps://soundcloud.com/musiqman/sos-games-they-play-ft-kev-x-mu
 siq-man-produced-by-musiq-man\n\n\nhttps://soundcloud.com/musiqman/nud
 ekades-back-2-back-produced\n\nPlus ZMan premier new song and music vi
 deo shoot! Get on it!\n Each Sunday at the Boom Boom Room, some of the
  Bay’s best local emcees, dancers, beatboxers, and musicians collabo
 rate in a spontaneous combustion of raw talent. It’s called Return o
 f the Cypher - ROTC , and true Hip Hop heads are advised not to miss o
 ut on this free party.  The legendary DJ Kevvy Kev and The Gemstone Ba
 nd provide beats and live grooves for each session. Featuring vocals f
 rom Jenna Medina.  Cyphers from 10-11 and 1-2. Open signups... No suck
 as need apply.\n\nFor more information visit https://trueskool.com/eve
 nts/biola-musicman-with-the-gemstone-band-dj-kevvy-kev
DTSTART;TZID=America/Los_Angeles:20150726T210000
DTEND;TZID=America/Los_Angeles:20150727T020000
CATEGORIES:"san francisco", fillmore, "boom boom room"
LOCATION:Boom Boom Room, SF, CA
WEBSITE:https://www.facebook.com/events/842490655845573/
URL:https://www.facebook.com/events/842490655845573/
CONTACT:
ORGANIZER:Return of the Cypher
ATTACH;FMTTYPE="image/jpeg":http://storage.ning.com/topology/rest/1.0/
 file/get/2247978983?profile=original
ATTENDEE;ROLE=REQ-PARTICIPANT;PARTSTAT=ACCEPTED;RSVP=TRUE;CN="Return O
 f The Cypher":https://trueskool.com/profile/JoshuaSamuels
END:VEVENT
END:VCALENDAR
