BEGIN:VCALENDAR
PRODID:NingEventWidget-v1
VERSION:2.0
METHOD:PUBLISH
BEGIN:VTIMEZONE
TZID:America/Los_Angeles
X-LIC-LOCATION:America/Los_Angeles
BEGIN:DAYLIGHT
TZOFFSETFROM:-0800
TZOFFSETTO:-0700
TZNAME:PDT
DTSTART:19700308T020000
RRULE:FREQ=YEARLY;BYMONTH=3;BYDAY=2SU
END:DAYLIGHT
BEGIN:STANDARD
TZOFFSETFROM:-0700
TZOFFSETTO:-0800
TZNAME:PST
DTSTART:19701101T020000
RRULE:FREQ=YEARLY;BYMONTH=11;BYDAY=1SU
END:STANDARD
END:VTIMEZONE
BEGIN:VEVENT
UID:1464587:Event:334473
DTSTAMP:20260422T132421Z
SUMMARY:Bilal (WIN TICKETS)
DESCRIPTION:\n Friday, May 23 Bilal\n\n8pm $29 & 10pm $33\n\nYoshi's O
 akland 510 Embarcadero West Jack London Square Oakland, CA 94607 Phone
 : 510.238.9200 » BUY TICKETS\n\nFor more information visit https://tr
 ueskool.com/events/bilal-win-tickets-1
DTSTART;TZID=America/Los_Angeles:20140523T200000
DTEND;TZID=America/Los_Angeles:20140523T230000
CATEGORIES:"bay area", oakland
LOCATION:Yoshi's, Oakland
WEBSITE:http://yoshis.inticketing.com/evlist.php?events=search&searchs
 tr=BIlal&smonth=0&sday=0&syear=0&vstate=0
URL:http://yoshis.inticketing.com/evlist.php?events=search&searchstr=B
 Ilal&smonth=0&sday=0&syear=0&vstate=0
CONTACT:
ORGANIZER:Yoshi's
ATTACH;FMTTYPE="image/jpeg":http://storage.ning.com/topology/rest/1.0/
 file/get/2247959368?profile=original
ATTENDEE;ROLE=REQ-PARTICIPANT;PARTSTAT=ACCEPTED;RSVP=TRUE;CN="Lynn Tej
 as":https://trueskool.com/profile/LynnB
ATTENDEE;ROLE=REQ-PARTICIPANT;PARTSTAT=ACCEPTED;RSVP=TRUE;CN="Webb Man
 agement":https://trueskool.com/profile/VeronicaWebber
ATTENDEE;ROLE=REQ-PARTICIPANT;PARTSTAT=ACCEPTED;RSVP=TRUE;CN="Nicole J
 amise":https://trueskool.com/profile/NicoleJamise
ATTENDEE;ROLE=REQ-PARTICIPANT;PARTSTAT=ACCEPTED;RSVP=TRUE;CN="Kimberly
  Grizzell":https://trueskool.com/profile/KimberlyGrizzell
ATTENDEE;ROLE=REQ-PARTICIPANT;PARTSTAT=ACCEPTED;RSVP=TRUE;CN="Kerry Gr
 aham-Walter":https://trueskool.com/profile/KerryGrahamWalter
ATTENDEE;ROLE=REQ-PARTICIPANT;PARTSTAT=ACCEPTED;RSVP=TRUE;CN="chester 
 smith":https://trueskool.com/profile/chestersmith
ATTENDEE;ROLE=REQ-PARTICIPANT;PARTSTAT=ACCEPTED;RSVP=TRUE;CN="Laneisha
  Whitfield":https://trueskool.com/profile/LaneishaWhitfield
ATTENDEE;ROLE=REQ-PARTICIPANT;PARTSTAT=ACCEPTED;RSVP=TRUE;CN="Elisa Bj
 eldanes":https://trueskool.com/profile/ElisaBjeldanes
ATTENDEE;ROLE=REQ-PARTICIPANT;PARTSTAT=ACCEPTED;RSVP=TRUE;CN="Nicole S
 atterfield":https://trueskool.com/profile/NicoleSatterfield
ATTENDEE;ROLE=REQ-PARTICIPANT;PARTSTAT=ACCEPTED;RSVP=TRUE;CN="Jamilah 
 Bradshaw":https://trueskool.com/profile/JamilahBradshaw
ATTENDEE;ROLE=REQ-PARTICIPANT;PARTSTAT=ACCEPTED;RSVP=TRUE;CN="Demetria
  Lawrence":https://trueskool.com/profile/DemetriaLawrence
ATTENDEE;ROLE=REQ-PARTICIPANT;PARTSTAT=ACCEPTED;RSVP=TRUE;CN=J:https:/
 /trueskool.com/profile/J321
ATTENDEE;ROLE=REQ-PARTICIPANT;PARTSTAT=ACCEPTED;RSVP=TRUE;CN="Camille 
 Yin":https://trueskool.com/profile/Camille
ATTENDEE;ROLE=REQ-PARTICIPANT;PARTSTAT=ACCEPTED;RSVP=TRUE;CN="James Mi
 chael Federighi":https://trueskool.com/profile/JamesMichaelFederighi
ATTENDEE;ROLE=REQ-PARTICIPANT;PARTSTAT=ACCEPTED;RSVP=TRUE;CN="Matthew 
 Ford":https://trueskool.com/profile/MatthewFord
ATTENDEE;ROLE=REQ-PARTICIPANT;PARTSTAT=ACCEPTED;RSVP=TRUE;CN="Staff Pi
 ck":https://trueskool.com/profile/Ren
ATTENDEE;ROLE=REQ-PARTICIPANT;PARTSTAT=TENTATIVE;RSVP=TRUE;CN="Keiller
  MacDuff":https://trueskool.com/profile/KeillerMacDuff
ATTENDEE;ROLE=REQ-PARTICIPANT;PARTSTAT=TENTATIVE;RSVP=TRUE;CN="lw_muse
 @yahoo.com":https://trueskool.com/profile/lwmuseyahoocom
ATTENDEE;ROLE=REQ-PARTICIPANT;PARTSTAT=TENTATIVE;RSVP=TRUE;CN="Rhonda 
 S Willis":https://trueskool.com/profile/RhondaSWillis
END:VEVENT
END:VCALENDAR
