BEGIN:VCALENDAR
PRODID:NingEventWidget-v1
VERSION:2.0
METHOD:PUBLISH
BEGIN:VTIMEZONE
TZID:America/Los_Angeles
X-LIC-LOCATION:America/Los_Angeles
BEGIN:DAYLIGHT
TZOFFSETFROM:-0800
TZOFFSETTO:-0700
TZNAME:PDT
DTSTART:19700308T020000
RRULE:FREQ=YEARLY;BYMONTH=3;BYDAY=2SU
END:DAYLIGHT
BEGIN:STANDARD
TZOFFSETFROM:-0700
TZOFFSETTO:-0800
TZNAME:PST
DTSTART:19701101T020000
RRULE:FREQ=YEARLY;BYMONTH=11;BYDAY=1SU
END:STANDARD
END:VTIMEZONE
BEGIN:VEVENT
UID:1464587:Event:660933
DTSTAMP:20260423T101853Z
SUMMARY:Bilal
DESCRIPTION:THU 4.13 Genre-defying singer-songwriter\nBILAL DOORS: 7:3
 0 PM / SHOW: 8:00 PM OPENING ACT: RES\n\nFRI 4.14 Genre-defying singer
 -songwriter\nBILAL DOORS: 7:30 PM / SHOW: 8:00 PM\n\nFRI 4.14 Genre-de
 fying singer-songwriter\nBILAL DOORS: 9:45 PM / SHOW: 10:00 PM OPENING
  ACT: RES\n\nFor more information visit https://trueskool.com/events/b
 ilal-6
DTSTART;TZID=America/Los_Angeles:20170413T200000
DTEND;TZID=America/Los_Angeles:20170414T120000
CATEGORIES:"san francisco", oakland, berkley, "san jose", "bay area"
LOCATION:Yoshi's, Oakland
WEBSITE:http://www.yoshis.com/search/?q=BILAL
URL:http://www.yoshis.com/search/?q=BILAL
CONTACT:
ORGANIZER;CN="Editor's Pick":https://trueskool.com/profile/RentheVinyl
 Archaeologist
ATTACH;FMTTYPE="image/jpeg":http://storage.ning.com/topology/rest/1.0/
 file/get/2247994375?profile=original
ATTENDEE;ROLE=REQ-PARTICIPANT;PARTSTAT=ACCEPTED;RSVP=TRUE;CN="Editor's
  Pick":https://trueskool.com/profile/RentheVinylArchaeologist
END:VEVENT
END:VCALENDAR
