BEGIN:VCALENDAR
PRODID:NingEventWidget-v1
VERSION:2.0
METHOD:PUBLISH
BEGIN:VTIMEZONE
TZID:America/Los_Angeles
X-LIC-LOCATION:America/Los_Angeles
BEGIN:DAYLIGHT
TZOFFSETFROM:-0800
TZOFFSETTO:-0700
TZNAME:PDT
DTSTART:19700308T020000
RRULE:FREQ=YEARLY;BYMONTH=3;BYDAY=2SU
END:DAYLIGHT
BEGIN:STANDARD
TZOFFSETFROM:-0700
TZOFFSETTO:-0800
TZNAME:PST
DTSTART:19701101T020000
RRULE:FREQ=YEARLY;BYMONTH=11;BYDAY=1SU
END:STANDARD
END:VTIMEZONE
BEGIN:VEVENT
UID:1464587:Event:673455
DTSTAMP:20260422T135240Z
SUMMARY:BIG SEAN
DESCRIPTION:Show Postponed - Refunds Available at Point of Purchase\r\
 nBIG SEAN\r\nPlayboi Carti Shy Glizzy G4SHI\r\nBill Graham Civic Audit
 orium San Francisco, CA Saturday, April 28, 2018 Doors: 5:30pm | Show:
  7:00pm\n\nFor more information visit https://trueskool.com/events/big
 -sean-postponed
DTSTART;TZID=America/Los_Angeles:20180428T190000
DTEND;TZID=America/Los_Angeles:20180428T230000
CATEGORIES:"bay area", oakland, "san francisco", "san jose", berkeley
LOCATION:Bill Graham Civic Auditorium, SF
WEBSITE:http://www.ticketmaster.com/big-sean-san-francisco-california-
 04-28-2018/event/1C00543FDAD49CE7?camefrom=CFC_ANOTHERPLANET_web&amp;a
 mp;brand=anotherplanet
URL:http://www.ticketmaster.com/big-sean-san-francisco-california-04-2
 8-2018/event/1C00543FDAD49CE7?camefrom=CFC_ANOTHERPLANET_web&amp;amp;b
 rand=anotherplanet
CONTACT:
ORGANIZER;CN="Editor's Pick":https://trueskool.com/profile/RentheVinyl
 Archaeologist
ATTACH;FMTTYPE="image/jpeg":http://storage.ning.com/topology/rest/1.0/
 file/get/2248004912?profile=original
ATTENDEE;ROLE=REQ-PARTICIPANT;PARTSTAT=ACCEPTED;RSVP=TRUE;CN="Editor's
  Pick":https://trueskool.com/profile/RentheVinylArchaeologist
END:VEVENT
END:VCALENDAR
